BEGIN:VCALENDAR
VERSION:2.0
PRODID:-//Creative Glass Guild of Queensland - ECPv6.15.20//NONSGML v1.0//EN
CALSCALE:GREGORIAN
METHOD:PUBLISH
X-ORIGINAL-URL:https://creativeglassguild.com.au
X-WR-CALDESC:Events for Creative Glass Guild of Queensland
REFRESH-INTERVAL;VALUE=DURATION:PT1H
X-Robots-Tag:noindex
X-PUBLISHED-TTL:PT1H
BEGIN:VTIMEZONE
TZID:Australia/Brisbane
BEGIN:STANDARD
TZOFFSETFROM:+1000
TZOFFSETTO:+1000
TZNAME:AEST
DTSTART:20250101T000000
END:STANDARD
END:VTIMEZONE
BEGIN:VEVENT
DTSTART;TZID=Australia/Brisbane:20260531T093000
DTEND;TZID=Australia/Brisbane:20260531T120000
DTSTAMP:20260424T033437
CREATED:20251104T012825Z
LAST-MODIFIED:20260331T050042Z
UID:20434-1780219800-1780228800@creativeglassguild.com.au
SUMMARY:BMT2: Glass Bead Making - Meadow Flowers
DESCRIPTION:Tutor: Lenore Keough \nIn this tutorial\, you will review basic torching skills before making an oval bead with a meadow background and surface floral design. This tutorial will cover practicing several decorative techniques and then using them to make the floral design. \nNumbers: Minimum 3\, Maximum 5 \nPrerequisite: Students to have done torching or completed a beginners’ course at the Guild or elsewhere of at least 12 hours duration. Confidence in making and shaping simple beads and adding dots in controlled way.
URL:https://creativeglassguild.com.au/event/bmt2-meadow-flowers/
LOCATION:Creative Glass Guild of Queensland\, Upstairs\, 64 Fulcher Road\, Red Hill\, Queensland\, 4059\, Australia
CATEGORIES:glass bead making extension
END:VEVENT
BEGIN:VEVENT
DTSTART;TZID=Australia/Brisbane:20260810T183000
DTEND;TZID=Australia/Brisbane:20260810T210000
DTSTAMP:20260424T033437
CREATED:20251104T014540Z
LAST-MODIFIED:20260331T050038Z
UID:20438-1786386600-1786395600@creativeglassguild.com.au
SUMMARY:BMT3: Glass Bead Making - Cute Critters
DESCRIPTION:Tutor: Lenore Keough \nIn this tutorial\, you will review basic torching skills before making an oval bead with a meadow background and surface floral design. This tutorial will cover practicing several decorative techniques and then using them to make the floral design. \nNumbers: Minimum 3\, Maximum 5 \nPrerequisite: Students to have done torching or completed a beginners’ course at the Guild or elsewhere of at least 12 hours duration. Confidence in making and shaping simple beads and adding dots in controlled way.
URL:https://creativeglassguild.com.au/event/bmt3-cute-critters-tutorial/
LOCATION:Creative Glass Guild of Queensland\, Upstairs\, 64 Fulcher Road\, Red Hill\, Queensland\, 4059\, Australia
CATEGORIES:glass bead making extension
END:VEVENT
BEGIN:VEVENT
DTSTART;TZID=Australia/Brisbane:20260829T090000
DTEND;TZID=Australia/Brisbane:20260829T153000
DTSTAMP:20260424T033437
CREATED:20250821T052736Z
LAST-MODIFIED:20260325T082217Z
UID:19473-1787994000-1788017400@creativeglassguild.com.au
SUMMARY:BBM5: Glass Bead Making - Beginners (29 and 30 August)
DESCRIPTION:Glass Bead Making – Beginners\nTutor: Lenore Keough \nDay 1: Introduction to lampworking tools and equipment; safety requirements\, use of hothead torch as well as instruction on how to make your own glass beads. You will have time to practice this new skill with various bead shapes. \nDay 2: Learn to pull glass stringers; how to apply dots and other simple decorative techniques while getting creative with colour. \nNumbers: Minimum 3\, Maximum 5 \nPrerequisite: No experience necessary. Suitable for students who have never tried torching or those with minimal glass bead making experience. \nNote: Guild beginner courses have no hidden costs.
URL:https://creativeglassguild.com.au/event/bbm5-beadmaking-beginners/2026-08-29/
LOCATION:Creative Glass Guild of Queensland\, Upstairs\, 64 Fulcher Road\, Red Hill\, Queensland\, 4059\, Australia
CATEGORIES:glass bead making beginners
ATTACH;FMTTYPE=image/jpeg:https://creativeglassguild.com.au/wp-content/uploads/2022/12/Cool-Beads-e1670392156662.jpg
END:VEVENT
END:VCALENDAR