BEGIN:VCALENDAR
VERSION:2.0
PRODID:-//Creative Glass Guild of Queensland - ECPv6.15.20//NONSGML v1.0//EN
CALSCALE:GREGORIAN
METHOD:PUBLISH
X-WR-CALNAME:Creative Glass Guild of Queensland
X-ORIGINAL-URL:https://creativeglassguild.com.au
X-WR-CALDESC:Events for Creative Glass Guild of Queensland
REFRESH-INTERVAL;VALUE=DURATION:PT1H
X-Robots-Tag:noindex
X-PUBLISHED-TTL:PT1H
BEGIN:VTIMEZONE
TZID:Australia/Brisbane
BEGIN:STANDARD
TZOFFSETFROM:+1000
TZOFFSETTO:+1000
TZNAME:AEST
DTSTART:20250101T000000
END:STANDARD
END:VTIMEZONE
BEGIN:VEVENT
DTSTART;TZID=Australia/Brisbane:20260517T090000
DTEND;TZID=Australia/Brisbane:20260517T160000
DTSTAMP:20260424T015456
CREATED:20250924T054902Z
LAST-MODIFIED:20251124T044013Z
UID:20065-1779008400-1779033600@creativeglassguild.com.au
SUMMARY:FWS4: Kiln Carving - Making Patterns in Glass
DESCRIPTION:Kiln Carving – Making patterns in glass\nTutor: Katrina Jackson \nLearn how to “carve” glass\, to create and cut patterns from ceramic fibre paper. Understand the types of glass to use; and kiln firing processes involved. Safety procedures for using glass and ceramic fibre products are covered. A great beginner workshop as no glass cutting skills are required. Experienced glass users will also benefit by learning new techniques to add to their glass creating repetoire. Participants will make two glass “kiln carved” projects. \nWorkshop is not a replacement for beginners’ fusing and slumping course. Participants will not be taught how to care for and use the Guild kilns. \nNumbers: Minimum 5\, Maximum 6 \nPrerequisite: No experience necessary. \nCost: Includes all materials as well as kiln firings. No hidden costs.
URL:https://creativeglassguild.com.au/event/fws4-kiln-carving-17-may/
LOCATION:Creative Glass Guild of Queensland\, Downstairs\, 64 Fulcher Road\, Red Hill\, Queensland\, 4059\, Australia
CATEGORIES:Kiln Carving
ATTACH;FMTTYPE=image/jpeg:https://creativeglassguild.com.au/wp-content/uploads/Kiln-Carving-Sample-Dragon-Flies.jpg
END:VEVENT
BEGIN:VEVENT
DTSTART;TZID=Australia/Brisbane:20260719T090000
DTEND;TZID=Australia/Brisbane:20260719T160000
DTSTAMP:20260424T015456
CREATED:20251126T031428Z
LAST-MODIFIED:20251126T052453Z
UID:20534-1784451600-1784476800@creativeglassguild.com.au
SUMMARY:IFS1: Intermediate Fusing and Slumping
DESCRIPTION:This course is for members who have completed a Beginners Fusing and Slumping course at the Guild to experiment and create their own fused designs with a tutor to support.  The tutor will assist in choosing patterns and molds at the appropriate skill level; suggest project design choices; and assist in selecting glass. Students will also be helped in more intricate glass cutting techniques and project composition as well as setting the kiln.  Come prepared with design ideas and inspirations. \nStudents will need to purchase their own glass\, frit\, dots and other fused accessories. Tools are available for use but it is recommended students purchase their own scorers. \nNumbers: Minimum 5\, Maximum 8  \n \nPrerequisite: Guild membership and completion of the Beginners Fusing and Slumping course.
URL:https://creativeglassguild.com.au/event/ifs1-intermediate-fusing-and-slumping/
LOCATION:Creative Glass Guild of Queensland\, Downstairs\, 64 Fulcher Road\, Red Hill\, Queensland\, 4059\, Australia
CATEGORIES:Intermediate Fusing and Slumping
END:VEVENT
BEGIN:VEVENT
DTSTART;TZID=Australia/Brisbane:20260801T090000
DTEND;TZID=Australia/Brisbane:20260801T160000
DTSTAMP:20260424T015456
CREATED:20250926T011045Z
LAST-MODIFIED:20260206T003106Z
UID:20134-1785574800-1785600000@creativeglassguild.com.au
SUMMARY:BFS2: Fusing & Slumping – Beginners (1 and 2 August)
DESCRIPTION:Tutor: Katrina Jackson \nWant to enter the wonderful world of fused and slumped glass? \nIn this course\, beginners to glass and those with some experience\, will learn processes required to create a beautiful fused and slumped glass piece to take home.  Learn how to cut glass\, safety practices when working with glass\, how to prepare glass for kiln firing\, use and care of Guild kilns\, and learn what happens to glass in the fusing and slumping processes.  You will use basic designs supplied by the Guild to make one fused glass project. \nOn completion of this course and if you become\, or are a member\, you will be able to “book” Guild kilns to work on your own projects. \nNumbers: Minimum 5\, Maximum 6  \n \nPrerequisite: No experience necessary.
URL:https://creativeglassguild.com.au/event/bfs2-fusing-slumping-beginners/2026-08-01/
LOCATION:Creative Glass Guild of Queensland\, Downstairs\, 64 Fulcher Road\, Red Hill\, Queensland\, 4059\, Australia
CATEGORIES:Beginners fusing and slumping
ATTACH;FMTTYPE=image/jpeg:https://creativeglassguild.com.au/wp-content/uploads/2021/11/Slumping-class-1-copy.jpg
END:VEVENT
BEGIN:VEVENT
DTSTART;TZID=Australia/Brisbane:20260830T090000
DTEND;TZID=Australia/Brisbane:20260830T160000
DTSTAMP:20260424T015456
CREATED:20251130T022438Z
LAST-MODIFIED:20251130T022609Z
UID:20552-1788080400-1788105600@creativeglassguild.com.au
SUMMARY:IFS2: Intermediate Fusing and Slumping
DESCRIPTION:This course is for members who have completed a Beginners Fusing and Slumping course at the Guild to experiment and create their own fused designs with a tutor to support.  The tutor will assist in choosing patterns and molds at the appropriate skill level; suggest project design choices; and assist in selecting glass. Students will also be helped in more intricate glass cutting techniques and project composition as well as setting the kiln.  Come prepared with design ideas and inspirations. \nStudents will need to purchase their own glass\, frit\, dots and other fused accessories. Tools are available for use but it is recommended students purchase their own scorers. \nNumbers: Minimum 5\, Maximum 8  \n \nPrerequisite: Guild membership and completion of the Beginners Fusing and Slumping course.
URL:https://creativeglassguild.com.au/event/ifs2-intermediate-fusing-and-slumping/
LOCATION:Creative Glass Guild of Queensland\, Downstairs\, 64 Fulcher Road\, Red Hill\, Queensland\, 4059\, Australia
CATEGORIES:Intermediate Fusing and Slumping
ATTACH;FMTTYPE=image/jpeg:https://creativeglassguild.com.au/wp-content/uploads/2025/07/fused-glass-small-dishes.jpg
END:VEVENT
BEGIN:VEVENT
DTSTART;TZID=Australia/Brisbane:20260913T090000
DTEND;TZID=Australia/Brisbane:20260913T160000
DTSTAMP:20260424T015456
CREATED:20251124T042432Z
LAST-MODIFIED:20251124T050437Z
UID:20518-1789290000-1789315200@creativeglassguild.com.au
SUMMARY:FWS7: Fern Burn and Frit Fun
DESCRIPTION:Tutor: Katrina Jackson \nDelivered in 2 sessions\, first use live plants fused between 6mm clear float glass in order to leave a “fossil-like” ghost image in the glass. After break\, have fun using glass frit and powders to create a scene of your choice on clear glass. Your pieces will be fired for you to collect later. \nWorkshop is not a replacement for beginners’ fusing and slumping course. Participants will not be taught how to care for and use the Guild kilns. \nNumbers: Minimum 5\, Maximum 9 \nPrerequisite: No experience necessary. \nCost: Includes all materials (glass\, kiln paper\, frit) as well as kiln firings. No hidden costs. \n 
URL:https://creativeglassguild.com.au/event/fws7-fern-burn-and-frit-fun/
LOCATION:Creative Glass Guild of Queensland\, Downstairs\, 64 Fulcher Road\, Red Hill\, Queensland\, 4059\, Australia
CATEGORIES:Frit and Fern
ATTACH;FMTTYPE=image/jpeg:https://creativeglassguild.com.au/wp-content/uploads/2025/10/Frit-Forest-scaled.jpg
END:VEVENT
BEGIN:VEVENT
DTSTART;TZID=Australia/Brisbane:20261011T090000
DTEND;TZID=Australia/Brisbane:20261011T160000
DTSTAMP:20260424T015456
CREATED:20251124T043803Z
LAST-MODIFIED:20251124T050222Z
UID:20521-1791709200-1791734400@creativeglassguild.com.au
SUMMARY:FWS8: Kiln Carving - Making Patterns in Glass
DESCRIPTION:Kiln Carving – Making patterns in glass\nTutor: Katrina Jackson \nLearn how to “carve” glass\, to create and cut patterns from ceramic fibre paper. Understand the types of glass to use; and kiln firing processes involved. Safety procedures for using glass and ceramic fibre products are covered. A great beginner workshop as no glass cutting skills are required. Experienced glass users will also benefit by learning new techniques to add to their glass creating repetoire. Participants will make two glass “kiln carved” projects. \nWorkshop is not a replacement for beginners’ fusing and slumping course. Participants will not be taught how to care for and use the Guild kilns. \nNumbers: Minimum 5\, Maximum 6 \nPrerequisite: No experience necessary. \nCost: Includes all materials as well as kiln firings. No hidden costs.
URL:https://creativeglassguild.com.au/event/fws8-kiln-carving/
LOCATION:Creative Glass Guild of Queensland\, Downstairs\, 64 Fulcher Road\, Red Hill\, Queensland\, 4059\, Australia
CATEGORIES:Kiln Carving
ATTACH;FMTTYPE=image/jpeg:https://creativeglassguild.com.au/wp-content/uploads/Kiln-Carving-Sample-Dragon-Flies.jpg
END:VEVENT
BEGIN:VEVENT
DTSTART;TZID=Australia/Brisbane:20261025T090000
DTEND;TZID=Australia/Brisbane:20261025T160000
DTSTAMP:20260424T015456
CREATED:20251130T023309Z
LAST-MODIFIED:20251130T023309Z
UID:20555-1792918800-1792944000@creativeglassguild.com.au
SUMMARY:IFS3: Intermediate Fusing and Slumping
DESCRIPTION:This course is for members who have completed a Beginners Fusing and Slumping course at the Guild to experiment and create their own fused designs with a tutor to support.  The tutor will assist in choosing patterns and molds at the appropriate skill level; suggest project design choices; and assist in selecting glass. Students will also be helped in more intricate glass cutting techniques and project composition as well as setting the kiln.  Come prepared with design ideas and inspirations. \nStudents will need to purchase their own glass\, frit\, dots and other fused accessories. Tools are available for use but it is recommended students purchase their own scorers. \nNumbers: Minimum 5\, Maximum 8  \n \nPrerequisite: Guild membership and completion of the Beginners Fusing and Slumping course.
URL:https://creativeglassguild.com.au/event/ifs3-intermediate-fusing-and-slumping/
LOCATION:Creative Glass Guild of Queensland\, Downstairs\, 64 Fulcher Road\, Red Hill\, Queensland\, 4059\, Australia
CATEGORIES:Intermediate Fusing and Slumping
ATTACH;FMTTYPE=image/jpeg:https://creativeglassguild.com.au/wp-content/uploads/2025/11/IMG_3334-rotated-e1764469904425.jpg
END:VEVENT
END:VCALENDAR