BEGIN:VCALENDAR
VERSION:2.0
PRODID:-//Creative Glass Guild of Queensland - ECPv6.15.20//NONSGML v1.0//EN
CALSCALE:GREGORIAN
METHOD:PUBLISH
X-ORIGINAL-URL:https://creativeglassguild.com.au
X-WR-CALDESC:Events for Creative Glass Guild of Queensland
REFRESH-INTERVAL;VALUE=DURATION:PT1H
X-Robots-Tag:noindex
X-PUBLISHED-TTL:PT1H
BEGIN:VTIMEZONE
TZID:Australia/Brisbane
BEGIN:STANDARD
TZOFFSETFROM:+1000
TZOFFSETTO:+1000
TZNAME:AEST
DTSTART:20250101T000000
END:STANDARD
END:VTIMEZONE
BEGIN:VEVENT
DTSTART;TZID=Australia/Brisbane:20260420T170000
DTEND;TZID=Australia/Brisbane:20260420T200000
DTSTAMP:20260424T052927
CREATED:20260303T070640Z
LAST-MODIFIED:20260331T044815Z
UID:21429-1776704400-1776715200@creativeglassguild.com.au
SUMMARY:Making Christmas Decorations for Showcase Workshop\, 30 March to 20 April (Members Only)
DESCRIPTION:Organiser: Chris Bell  \nA call-out to members to help with making the popular Christmas Decorations which the Guild sells at the Showcase every year.  The 2026 Showcase will be held on Saturday 14 and Sunday 15 November at the Mt Coot-tha Botanic Gardens. The aim is to have more decorations than ever before – they sell like hotcakes! Bring your own tools. Glass and other materials supplied. \nLimited spaces in 4-week blocks: Bookings essential \nPrerequisite: Glass cutting skills necessary \nCost: Free
URL:https://creativeglassguild.com.au/event/christmas-decorations-showcase/2026-04-20/
LOCATION:Creative Glass Guild of Queensland\, Downstairs\, 64 Fulcher Road\, Red Hill\, Queensland\, 4059\, Australia
CATEGORIES:Christmas decorations
END:VEVENT
BEGIN:VEVENT
DTSTART;TZID=Australia/Brisbane:20260419T090000
DTEND;TZID=Australia/Brisbane:20260419T130000
DTSTAMP:20260424T052927
CREATED:20250924T052230Z
LAST-MODIFIED:20260215T064746Z
UID:20055-1776589200-1776603600@creativeglassguild.com.au
SUMMARY:FWS3: Fused Aussie Flowers (12 and 19 April)
DESCRIPTION:Tutor: Chris Bell \nThis 8-hour workshop is held over 2 consecutive Sundays to allow for pre-firing of your glass pieces before creating 6 beautiful Australian flowers. Many pictures of Aussie native flowers will be available for inspiration. \n \nDay 1: The tutor will demonstrate how to create a stock of the unique components of a flower – petals\, stamens\, stems\, leaves of various shapes and sizes. These pieces will be made by scoring and cutting glass. You will be taught how to bend and curl stringers as decoration. You will then prepare the pieces ready for firing and the construction of your flowers the following week.  \nDay 2: Wash your prepared pieces and build six 7 by 8 cm sized Aussie Floral ‘pictures’.  These will be placed in the kiln and fired ready for collection later in the week. At home\, you might turn these into a hanging decoration\, a pendant\, a picture by glueing on backing material and framing\, or display as they are. \nNumbers: Minimum 6\, Maximum 8 \nCost:  Includes all materials\, adhesive and firing fees. \nPrerequisite: Glass cutting skills necessary. Note: This workshop is not a replacement for the beginners fusing and slumping course.
URL:https://creativeglassguild.com.au/event/fws3-fused-aussie-flowers/2026-04-19/
LOCATION:Creative Glass Guild of Queensland\, Downstairs\, 64 Fulcher Road\, Red Hill\, Queensland\, 4059\, Australia
CATEGORIES:Aussie Flowers
ATTACH;FMTTYPE=image/jpeg:https://creativeglassguild.com.au/wp-content/uploads/2024/11/aussieflowers2-scaled-e1733549735901.jpg
END:VEVENT
END:VCALENDAR