BEGIN:VCALENDAR
VERSION:2.0
PRODID:-//Creative Glass Guild of Queensland - ECPv6.15.20//NONSGML v1.0//EN
CALSCALE:GREGORIAN
METHOD:PUBLISH
X-WR-CALNAME:Creative Glass Guild of Queensland
X-ORIGINAL-URL:https://creativeglassguild.com.au
X-WR-CALDESC:Events for Creative Glass Guild of Queensland
REFRESH-INTERVAL;VALUE=DURATION:PT1H
X-Robots-Tag:noindex
X-PUBLISHED-TTL:PT1H
BEGIN:VTIMEZONE
TZID:Australia/Brisbane
BEGIN:STANDARD
TZOFFSETFROM:+1000
TZOFFSETTO:+1000
TZNAME:AEST
DTSTART:20250101T000000
END:STANDARD
END:VTIMEZONE
BEGIN:VEVENT
DTSTART;TZID=Australia/Brisbane:20261011T090000
DTEND;TZID=Australia/Brisbane:20261011T160000
DTSTAMP:20260424T211350
CREATED:20251124T043803Z
LAST-MODIFIED:20251124T050222Z
UID:20521-1791709200-1791734400@creativeglassguild.com.au
SUMMARY:FWS8: Kiln Carving - Making Patterns in Glass
DESCRIPTION:Kiln Carving – Making patterns in glass\nTutor: Katrina Jackson \nLearn how to “carve” glass\, to create and cut patterns from ceramic fibre paper. Understand the types of glass to use; and kiln firing processes involved. Safety procedures for using glass and ceramic fibre products are covered. A great beginner workshop as no glass cutting skills are required. Experienced glass users will also benefit by learning new techniques to add to their glass creating repetoire. Participants will make two glass “kiln carved” projects. \nWorkshop is not a replacement for beginners’ fusing and slumping course. Participants will not be taught how to care for and use the Guild kilns. \nNumbers: Minimum 5\, Maximum 6 \nPrerequisite: No experience necessary. \nCost: Includes all materials as well as kiln firings. No hidden costs.
URL:https://creativeglassguild.com.au/event/fws8-kiln-carving/
LOCATION:Creative Glass Guild of Queensland\, Downstairs\, 64 Fulcher Road\, Red Hill\, Queensland\, 4059\, Australia
CATEGORIES:Kiln Carving
ATTACH;FMTTYPE=image/jpeg:https://creativeglassguild.com.au/wp-content/uploads/Kiln-Carving-Sample-Dragon-Flies.jpg
END:VEVENT
BEGIN:VEVENT
DTSTART;TZID=Australia/Brisbane:20261017T090000
DTEND;TZID=Australia/Brisbane:20261017T153000
DTSTAMP:20260424T211350
CREATED:20250821T053919Z
LAST-MODIFIED:20260325T082526Z
UID:19478-1792227600-1792251000@creativeglassguild.com.au
SUMMARY:BBM6: Glass Bead Making - Beginners (17 and 18 October)
DESCRIPTION:Glass Bead Making – Beginners\nTutor: Wendy McKean \nDay 1: Introduction to lampworking tools and equipment; safety requirements\, use of hothead torch as well as instruction on how to make your own glass beads. You will have time to practice this new skill with various bead shapes. \nDay 2: Learn to pull glass stringers; how to apply dots and other simple decorative techniques while getting creative with colour. \nNumbers: Minimum 3\, Maximum 5 \nPrerequisite: No experience necessary. Suitable for students who have never tried torching or those with minimal glass bead making experience. \nNote: Guild beginner courses have no hidden costs.
URL:https://creativeglassguild.com.au/event/bbm6-beginners-beadmaking/2026-10-17/
LOCATION:Creative Glass Guild of Queensland\, Upstairs\, 64 Fulcher Road\, Red Hill\, Queensland\, 4059\, Australia
CATEGORIES:glass bead making beginners
END:VEVENT
END:VCALENDAR