BEGIN:VCALENDAR
VERSION:2.0
PRODID:-//Creative Glass Guild of Queensland - ECPv6.15.20//NONSGML v1.0//EN
CALSCALE:GREGORIAN
METHOD:PUBLISH
X-WR-CALNAME:Creative Glass Guild of Queensland
X-ORIGINAL-URL:https://creativeglassguild.com.au
X-WR-CALDESC:Events for Creative Glass Guild of Queensland
REFRESH-INTERVAL;VALUE=DURATION:PT1H
X-Robots-Tag:noindex
X-PUBLISHED-TTL:PT1H
BEGIN:VTIMEZONE
TZID:Australia/Brisbane
BEGIN:STANDARD
TZOFFSETFROM:+1000
TZOFFSETTO:+1000
TZNAME:AEST
DTSTART:20250101T000000
END:STANDARD
END:VTIMEZONE
BEGIN:VEVENT
DTSTART;TZID=Australia/Brisbane:20260719T090000
DTEND;TZID=Australia/Brisbane:20260719T153000
DTSTAMP:20260424T114715
CREATED:20250821T051854Z
LAST-MODIFIED:20260325T082327Z
UID:19471-1784451600-1784475000@creativeglassguild.com.au
SUMMARY:BBM4: Glass Bead Making - Beginners (18 and 19 July)
DESCRIPTION:Glass Bead Making – Beginners\nTutor: Wendy McKean \nDay 1: Introduction to lampworking tools and equipment; safety requirements\, use of hothead torch as well as instruction on how to make your own glass beads. You will have time to practice this new skill with various bead shapes. \nDay 2: Learn to pull glass stringers; how to apply dots and other simple decorative techniques while getting creative with colour. \nNumbers: Minimum 3\, Maximum 5 \nPrerequisite: No experience necessary. Suitable for students who have never tried torching or those with minimal glass bead making experience. \nNote: Guild beginner courses have no hidden costs.
URL:https://creativeglassguild.com.au/event/bbm4-beadmaking-beginners/2026-07-19/
LOCATION:Creative Glass Guild of Queensland\, Upstairs\, 64 Fulcher Road\, Red Hill\, Queensland\, 4059\, Australia
CATEGORIES:glass bead making beginners
ATTACH;FMTTYPE=image/jpeg:https://creativeglassguild.com.au/wp-content/uploads/2025/08/Beginner-Beads-scaled.jpg
END:VEVENT
BEGIN:VEVENT
DTSTART;TZID=Australia/Brisbane:20260719T090000
DTEND;TZID=Australia/Brisbane:20260719T160000
DTSTAMP:20260424T114715
CREATED:20251126T031428Z
LAST-MODIFIED:20251126T052453Z
UID:20534-1784451600-1784476800@creativeglassguild.com.au
SUMMARY:IFS1: Intermediate Fusing and Slumping
DESCRIPTION:This course is for members who have completed a Beginners Fusing and Slumping course at the Guild to experiment and create their own fused designs with a tutor to support.  The tutor will assist in choosing patterns and molds at the appropriate skill level; suggest project design choices; and assist in selecting glass. Students will also be helped in more intricate glass cutting techniques and project composition as well as setting the kiln.  Come prepared with design ideas and inspirations. \nStudents will need to purchase their own glass\, frit\, dots and other fused accessories. Tools are available for use but it is recommended students purchase their own scorers. \nNumbers: Minimum 5\, Maximum 8  \n \nPrerequisite: Guild membership and completion of the Beginners Fusing and Slumping course.
URL:https://creativeglassguild.com.au/event/ifs1-intermediate-fusing-and-slumping/
LOCATION:Creative Glass Guild of Queensland\, Downstairs\, 64 Fulcher Road\, Red Hill\, Queensland\, 4059\, Australia
CATEGORIES:Intermediate Fusing and Slumping
END:VEVENT
BEGIN:VEVENT
DTSTART;TZID=Australia/Brisbane:20260720T090000
DTEND;TZID=Australia/Brisbane:20260720T150000
DTSTAMP:20260424T114715
CREATED:20251205T100427Z
LAST-MODIFIED:20251205T100427Z
UID:21722-1784538000-1784559600@creativeglassguild.com.au
SUMMARY:Members' Project Time - Monday Daytime
DESCRIPTION:Creative Glass Guild members are able to use Guild workshop facilities during members’ project open times. You may hire use of kilns\, sandblaster\, bead making studio and use tools to work on your own projects without having to enrol in a course where tutors are available. Note though that the Guild may close at times for courses\, workshops\, maintenance or emergent priorities. Members will be notified by email of any changes. \nGuild facilities during Members’ Project Times are for the use of all members and certain obligations are expected. \nThe Guild’s Administrative Policy further details expectations of members and students\, so that all can operate in a safe\, effective and inclusive environment. Please take the time to read this important information.
URL:https://creativeglassguild.com.au/event/members-project-time-monday-daytime-2/2026-07-20/
LOCATION:Creative Glass Guild of Queensland\, Downstairs\, 64 Fulcher Road\, Red Hill\, Queensland\, 4059\, Australia
CATEGORIES:Members Day
END:VEVENT
BEGIN:VEVENT
DTSTART;TZID=Australia/Brisbane:20260720T160000
DTEND;TZID=Australia/Brisbane:20260720T200000
DTSTAMP:20260424T114715
CREATED:20251205T100612Z
LAST-MODIFIED:20251205T100612Z
UID:21726-1784563200-1784577600@creativeglassguild.com.au
SUMMARY:Members' Project Time - Monday Evening
DESCRIPTION:Creative Glass Guild members are able to use Guild workshop facilities during members’ project open times. You may hire use of kilns\, sandblaster\, bead making studio and use tools to work on your own projects without having to enrol in a course where tutors are available. Note though that the Guild may close at times for courses\, workshops\, maintenance or emergent priorities. Members will be notified by email of any changes. \nGuild facilities during Members’ Project Times are for the use of all members and certain obligations are expected. \nThe Guild’s Administrative Policy further details the expectations of members and students\, so that all can operate in a safe\, effective and inclusive environment. Please take the time to read this important information.
URL:https://creativeglassguild.com.au/event/members-project-time-monday-evening-2/2026-07-20/
LOCATION:Creative Glass Guild of Queensland\, Downstairs\, 64 Fulcher Road\, Red Hill\, Queensland\, 4059\, Australia
CATEGORIES:Members Day
END:VEVENT
BEGIN:VEVENT
DTSTART;TZID=Australia/Brisbane:20260720T170000
DTEND;TZID=Australia/Brisbane:20260720T200000
DTSTAMP:20260424T114715
CREATED:20260308T011821Z
LAST-MODIFIED:20260314T084254Z
UID:21401-1784566800-1784577600@creativeglassguild.com.au
SUMMARY:Making Christmas Decorations for Showcase Workshop\, 20 July to 3 August (Members Only)
DESCRIPTION:[vc_row][vc_column][vc_column_text css=””]Organiser: Chris Bell \nA call-out to members to help with making the popular Christmas Decorations which the Guild sells at the Showcase every year.  The 2026 Showcase will be held on Saturday 14 and Sunday 15 November at the Mt Coot-tha Botanic Gardens. The aim is to have more decorations than ever before – they sell like hotcakes! \nBring your own tools. Glass and other materials supplied. \nLimited spaces in 4-week blocks: Bookings essential \nPrerequisite: Glass cutting skills necessary \nCost: Free \nonsectetur adipiscing elit. Ut elit tellus\, luctus nec ullamcorper mattis\, pulvinar dapibus leo.[/vc_column_text][/vc_column][/vc_row]
URL:https://creativeglassguild.com.au/event/christmas-decorations-showcase-4/2026-07-20/
LOCATION:Creative Glass Guild of Queensland\, Downstairs\, 64 Fulcher Road\, Red Hill\, Queensland\, 4059\, Australia
CATEGORIES:Christmas decorations
END:VEVENT
BEGIN:VEVENT
DTSTART;TZID=Australia/Brisbane:20260720T170000
DTEND;TZID=Australia/Brisbane:20260720T200000
DTSTAMP:20260424T114715
CREATED:20260308T033004Z
LAST-MODIFIED:20260308T033004Z
UID:21518-1784566800-1784577600@creativeglassguild.com.au
SUMMARY:Mosaic Ball Garden Project\, 13 July to 27 July (Members Only)
DESCRIPTION:[vc_row][vc_column][vc_column_text css=””]Organiser: Lyndall Davies \n\n\n\n\n\n\n\n\n\nMembers\, seeking help to make mosaic pieces to adhere to an 85cm diameter Pal Tiya ball which will stand in the front garden at the Guild. This “sculpture” will demonstrate further our creativity with glass and what we offer at the Guild.  \n144 pieces in all are needed to cover the ball and it will stand on a stainless-steel pole in the corner of the garden bordering the path to the front stairs. Looking forward to your joining in.  \nWhat to bring: Your own tools. Glass\, adhesive and other materials supplied. \nLimited spaces in 3-week blocks: Bookings essential. \nPrerequisite: Basic glass scoring and cutting skills. \nCost: Free[/vc_column_text][/vc_column][/vc_row]
URL:https://creativeglassguild.com.au/event/mosaic-ball-garden-project-5/2026-07-20/
LOCATION:Creative Glass Guild of Queensland\, Downstairs\, 64 Fulcher Road\, Red Hill\, Queensland\, 4059\, Australia
CATEGORIES:Mosaics,Mosaics - Workshop
END:VEVENT
BEGIN:VEVENT
DTSTART;TZID=Australia/Brisbane:20260722T093000
DTEND;TZID=Australia/Brisbane:20260722T140000
DTSTAMP:20260424T114715
CREATED:20251205T100839Z
LAST-MODIFIED:20251205T100839Z
UID:21742-1784712600-1784728800@creativeglassguild.com.au
SUMMARY:Members' Project Time - Wednesday
DESCRIPTION:Creative Glass Guild members are able to use Guild workshop facilities during members’ project open times. You may hire use of kilns\, sandblaster\, bead making studio and use tools to work on your own projects without having to enrol in a course where tutors are available. Note though that the Guild may close at times for courses\, workshops\, maintenance or emergent priorities. Members will be notified by email of any changes. \nGuild facilities during Members’ Project Times are for the use of all members and certain obligations are expected. \nThe Guild’s Administrative Policy further details the expectations of members and students\, so that all can operate in a safe\, effective and inclusive environment. Please take the time to read this important information.
URL:https://creativeglassguild.com.au/event/members-project-time-wednesday/2026-07-22/
LOCATION:Creative Glass Guild of Queensland\, Downstairs\, 64 Fulcher Road\, Red Hill\, Queensland\, 4059\, Australia
CATEGORIES:Members Day
END:VEVENT
BEGIN:VEVENT
DTSTART;TZID=Australia/Brisbane:20260722T180000
DTEND;TZID=Australia/Brisbane:20260722T210000
DTSTAMP:20260424T114715
CREATED:20260404T082050Z
LAST-MODIFIED:20260404T083103Z
UID:21827-1784743200-1784754000@creativeglassguild.com.au
SUMMARY:BM3: Beginner Mosaics (June 17 to July 22)
DESCRIPTION:Mosaics – BEGINNERS\nTutors: April Araullo and Marianne Bland \nIn this 18-hour course held over 6 consecutive Wednesday evenings\, you will learn skills and techniques necessary to create a beautiful glass mosaic suitable for displaying inside your home or outside in your garden. You choose!   \nLearn how to score and cut glass; safety practices when working with glass; and use of various hand tools for cutting glass to a pattern. You will also learn how to use a grinder to refine the shape of your tesserae\, and finally\, to glue and grout your mosaic for the finished picture.  Tutors will provide a selection of designs suitable to create a 30 x 30 cm hanging mosaic.  Upon completion of the course\, you will have not only a beautiful mosaic to take home\, but also the knowledge to create your own glass mosaic projects. \nWhen: Wednesdays\, 6:00 to 9:00pm (18 hours) \nNumbers: Minimum 5\, Maximum 6 \nPrerequisite: No prior experience required.  \nCost: Includes all materials – glass\, substrate\, adhesives and grout\, hanging hardware – as well as course notes. Guild beginner courses have no hidden costs!
URL:https://creativeglassguild.com.au/event/bm3-beginner-mosaics/2026-07-22/
LOCATION:Creative Glass Guild of Queensland\, Downstairs\, 64 Fulcher Road\, Red Hill\, Queensland\, 4059\, Australia
CATEGORIES:Mosaics – Beginners
ATTACH;FMTTYPE=image/jpeg:https://creativeglassguild.com.au/wp-content/uploads/2025/02/Beginner-mosaics1.jpg
END:VEVENT
BEGIN:VEVENT
DTSTART;TZID=Australia/Brisbane:20260722T180000
DTEND;TZID=Australia/Brisbane:20260722T210000
DTSTAMP:20260424T114715
CREATED:20260414T034405Z
LAST-MODIFIED:20260414T034437Z
UID:21918-1784743200-1784754000@creativeglassguild.com.au
SUMMARY:IM3: Intermediate Mosaics (June 17 to July 22)
DESCRIPTION:Mosaics – INTERMEDIATE\nTutors: April Araullo and Marianne Bland \nThis 6-week evening course is for intermediate or advanced students to explore different techniques in mosaics and experiment with different adhesives and substrates with tutor assistance. You will work on your own project at your own pace. Projects that students have worked on include mixed media\, glass embellishment\, paper under glass\, glass on glass\, smalti\, mosaics on mesh\, 3 dimensional and portraits to name a few! \nAs a member\, you will have access to purchase glass and other materials\, but the Guild does not stock most adhesives\, grout\, various substrates\, etc. You will need to purchase yourself. \nNumbers: Minimum 4-6\, Maximum 8.  NOTE: Course is combined with Beginner students. \nPrerequisite: Guild membership and completion of a beginners’ mosaics course or equivalent; or\, Proficiency in glass scoring / cutting\, substrate and adhesives knowledge and ability as assessed by Tutor.
URL:https://creativeglassguild.com.au/event/im3-intermediate-mosaics/2026-07-22/
LOCATION:Creative Glass Guild of Queensland\, Downstairs\, 64 Fulcher Road\, Red Hill\, Queensland\, 4059\, Australia
CATEGORIES:Mosaics – Intermediate Evening
ATTACH;FMTTYPE=image/jpeg:https://creativeglassguild.com.au/wp-content/uploads/2021/09/Mosaics-5-1.jpg
END:VEVENT
BEGIN:VEVENT
DTSTART;TZID=Australia/Brisbane:20260723T183000
DTEND;TZID=Australia/Brisbane:20260723T213000
DTSTAMP:20260424T114715
CREATED:20251103T094110Z
LAST-MODIFIED:20251103T094241Z
UID:20380-1784831400-1784842200@creativeglassguild.com.au
SUMMARY:IPL1: Panel Lamp Construction (18 June to 20 August)
DESCRIPTION:Tutor: Jenny Keys \nRunning over 10 weeks on Thursday evenings\, students choose from three lamp designs\, or\, may choose their own simple pattern after discussion with\, and agreement by\, tutor. If you choose your own pattern\, you may need to work in your own time to complete lamp. \nNumbers: Minimum 4\, Maximum  8 \nPrerequisite: Guild membership and completion of Leadlight and Copper Foiling – Beginners or Copperfoiling – Beginners. \nCost: Includes copper foil\, solder\, lamp cap\, spider\, flux\, patina\, but not glass & lamp fixtures as these will vary depending on your requirements. (Glass for a basic lamp may cost $80.00 to $100.00.)
URL:https://creativeglassguild.com.au/event/ipl1-panel-lamp-construction/2026-07-23/
LOCATION:Creative Glass Guild of Queensland\, Upstairs\, 64 Fulcher Road\, Red Hill\, Queensland\, 4059\, Australia
CATEGORIES:Panel Lamp Construction – Intermediate
ATTACH;FMTTYPE=image/jpeg:https://creativeglassguild.com.au/wp-content/uploads/2023/12/Panel-Lamp.jpg
END:VEVENT
BEGIN:VEVENT
DTSTART;TZID=Australia/Brisbane:20260724T090000
DTEND;TZID=Australia/Brisbane:20260724T090000
DTSTAMP:20260424T114715
CREATED:20251205T101047Z
LAST-MODIFIED:20260326T072732Z
UID:21759-1784883600-1784883600@creativeglassguild.com.au
SUMMARY:Members' Project Time - Friday
DESCRIPTION:Creative Glass Guild members are able to use Guild workshop facilities during members’ project open times. You may hire use of kilns\, sandblaster\, bead making studio and use tools to work on your own projects without having to enrol in a course where tutors are available. Note though that the Guild may close at times for courses\, workshops\, maintenance or emergent priorities. Members will be notified by email of any changes. \nGuild facilities during Members’ Project Times are for the use of all members and certain obligations are expected. \nThe Guild’s Administrative Policy further details the expectations of members and students\, so that all can operate in a safe\, effective and inclusive environment. Please take the time to read this important information.
URL:https://creativeglassguild.com.au/event/members-project-time-friday/2026-07-24/
LOCATION:Creative Glass Guild of Queensland\, Downstairs\, 64 Fulcher Road\, Red Hill\, Queensland\, 4059\, Australia
CATEGORIES:Members Day
END:VEVENT
BEGIN:VEVENT
DTSTART;TZID=Australia/Brisbane:20260725T090000
DTEND;TZID=Australia/Brisbane:20260725T120000
DTSTAMP:20260424T114715
CREATED:20251205T101141Z
LAST-MODIFIED:20251205T101141Z
UID:21777-1784970000-1784980800@creativeglassguild.com.au
SUMMARY:Members' Project Time - Saturday
DESCRIPTION:Creative Glass Guild members are able to use Guild workshop facilities during members’ project open times. You may hire use of kilns\, sandblaster\, bead making studio and use tools to work on your own projects without having to enrol in a course where tutors are available. Note though that the Guild may close at times for courses\, workshops\, maintenance or emergent priorities. Members will be notified by email of any changes. \nGuild facilities during Members’ Project Times are for the use of all members and certain obligations are expected. \nThe Guild’s Administrative Policy further details the expectations of members and students\, so that all can operate in a safe\, effective and inclusive environment. Please take the time to read this important information.
URL:https://creativeglassguild.com.au/event/members-project-time-saturday/2026-07-25/
LOCATION:Creative Glass Guild of Queensland\, Downstairs\, 64 Fulcher Road\, Red Hill\, Queensland\, 4059\, Australia
CATEGORIES:Members Day
END:VEVENT
BEGIN:VEVENT
DTSTART;TZID=Australia/Brisbane:20260725T093000
DTEND;TZID=Australia/Brisbane:20260725T120000
DTSTAMP:20260424T114715
CREATED:20260205T231725Z
LAST-MODIFIED:20260205T231725Z
UID:20943-1784971800-1784980800@creativeglassguild.com.au
SUMMARY:Beadmaker Buddy-Up - Layering glass\, 25 July\, 9:30am to 12:00pm
DESCRIPTION:
URL:https://creativeglassguild.com.au/event/beadmaker-buddy-up-layering-glass/
LOCATION:Creative Glass Guild of Queensland\, Upstairs\, 64 Fulcher Road\, Red Hill\, Queensland\, 4059\, Australia
CATEGORIES:glass bead making buddy up
END:VEVENT
END:VCALENDAR