BEGIN:VCALENDAR
VERSION:2.0
PRODID:-//Creative Glass Guild of Queensland - ECPv6.15.20//NONSGML v1.0//EN
CALSCALE:GREGORIAN
METHOD:PUBLISH
X-WR-CALNAME:Creative Glass Guild of Queensland
X-ORIGINAL-URL:https://creativeglassguild.com.au
X-WR-CALDESC:Events for Creative Glass Guild of Queensland
REFRESH-INTERVAL;VALUE=DURATION:PT1H
X-Robots-Tag:noindex
X-PUBLISHED-TTL:PT1H
BEGIN:VTIMEZONE
TZID:Australia/Brisbane
BEGIN:STANDARD
TZOFFSETFROM:+1000
TZOFFSETTO:+1000
TZNAME:AEST
DTSTART:20250101T000000
END:STANDARD
END:VTIMEZONE
BEGIN:VEVENT
DTSTART;TZID=Australia/Brisbane:20260615T090000
DTEND;TZID=Australia/Brisbane:20260615T150000
DTSTAMP:20260424T102922
CREATED:20251205T100427Z
LAST-MODIFIED:20260326T072440Z
UID:21243-1781514000-1781535600@creativeglassguild.com.au
SUMMARY:Members' Project Time - Monday Daytime
DESCRIPTION:Creative Glass Guild members are able to use Guild workshop facilities during members’ project open times. You may hire use of kilns\, sandblaster\, bead making studio and use tools to work on your own projects without having to enrol in a course where tutors are available. Note though that the Guild may close at times for courses\, workshops\, maintenance or emergent priorities. Members will be notified by email of any changes. \nGuild facilities during Members’ Project Times are for the use of all members and certain obligations are expected. \nThe Guild’s Administrative Policy further details expectations of members and students\, so that all can operate in a safe\, effective and inclusive environment. Please take the time to read this important information.
URL:https://creativeglassguild.com.au/event/members-project-time-monday-daytime-2/2026-06-15/
LOCATION:Creative Glass Guild of Queensland\, Downstairs\, 64 Fulcher Road\, Red Hill\, Queensland\, 4059\, Australia
CATEGORIES:Members Day
END:VEVENT
BEGIN:VEVENT
DTSTART;TZID=Australia/Brisbane:20260615T160000
DTEND;TZID=Australia/Brisbane:20260615T200000
DTSTAMP:20260424T102922
CREATED:20251205T100612Z
LAST-MODIFIED:20260326T072536Z
UID:21269-1781539200-1781553600@creativeglassguild.com.au
SUMMARY:Members' Project Time - Monday Evening
DESCRIPTION:Creative Glass Guild members are able to use Guild workshop facilities during members’ project open times. You may hire use of kilns\, sandblaster\, bead making studio and use tools to work on your own projects without having to enrol in a course where tutors are available. Note though that the Guild may close at times for courses\, workshops\, maintenance or emergent priorities. Members will be notified by email of any changes. \nGuild facilities during Members’ Project Times are for the use of all members and certain obligations are expected. \nThe Guild’s Administrative Policy further details the expectations of members and students\, so that all can operate in a safe\, effective and inclusive environment. Please take the time to read this important information.
URL:https://creativeglassguild.com.au/event/members-project-time-monday-evening-2/2026-06-15/
LOCATION:Creative Glass Guild of Queensland\, Downstairs\, 64 Fulcher Road\, Red Hill\, Queensland\, 4059\, Australia
CATEGORIES:Members Day
END:VEVENT
BEGIN:VEVENT
DTSTART;TZID=Australia/Brisbane:20260615T170000
DTEND;TZID=Australia/Brisbane:20260615T200000
DTSTAMP:20260424T102922
CREATED:20260308T004001Z
LAST-MODIFIED:20260314T084343Z
UID:21479-1781542800-1781553600@creativeglassguild.com.au
SUMMARY:Making Christmas Decorations for Showcase Workshop\, 25 May to 15 June (Members Only)
DESCRIPTION:[vc_row][vc_column][vc_column_text css=””]Organiser: Chris Bell \nA call-out to members to help with making the popular Christmas Decorations which the Guild sells at the Showcase every year.  The 2026 Showcase will be held on Saturday 14 and Sunday 15 November at the Mt Coot-tha Botanic Gardens. The aim is to have more decorations than ever before – they sell like hotcakes! \nBring your own tools. Glass and other materials supplied. \nLimited spaces in 4-week blocks: Bookings essential \nPrerequisite: Glass cutting skills necessary \nCost: Free[/vc_column_text][/vc_column][/vc_row]
URL:https://creativeglassguild.com.au/event/christmas-decorations-showcase-3/2026-06-15/
LOCATION:Creative Glass Guild of Queensland\, Downstairs\, 64 Fulcher Road\, Red Hill\, Queensland\, 4059\, Australia
CATEGORIES:Christmas decorations
END:VEVENT
BEGIN:VEVENT
DTSTART;TZID=Australia/Brisbane:20260615T170000
DTEND;TZID=Australia/Brisbane:20260615T200000
DTSTAMP:20260424T102922
CREATED:20260308T031520Z
LAST-MODIFIED:20260314T083101Z
UID:21506-1781542800-1781553600@creativeglassguild.com.au
SUMMARY:Mosaic Ball Garden Project\, 1 June to 15 June (Members Only)
DESCRIPTION:[vc_row][vc_column][vc_column_text css=””]Organiser: Lyndall Davies \n\n\n\n\n\n\n\n\n\nMembers\, seeking help to make mosaic pieces to adhere to an 85cm diameter Pal Tiya ball which will stand in the front garden at the Guild. This “sculpture” will demonstrate further our creativity with glass and what we offer at the Guild.  \n144 pieces in all are needed to cover the ball and it will stand on a stainless-steel pole in the corner of the garden bordering the path to the front stairs. Looking forward to your joining in.  \nWhat to bring: Your own tools. Glass\, adhesive and other materials supplied. \nLimited spaces in 3-week blocks: Bookings essential. \nPrerequisite: Basic glass scoring and cutting skills. \nCost: Free[/vc_column_text][/vc_column][/vc_row]
URL:https://creativeglassguild.com.au/event/mosaic-ball-garden-project-3/2026-06-15/
LOCATION:Creative Glass Guild of Queensland\, Downstairs\, 64 Fulcher Road\, Red Hill\, Queensland\, 4059\, Australia
CATEGORIES:Mosaic Ball
END:VEVENT
BEGIN:VEVENT
DTSTART;TZID=Australia/Brisbane:20260616T183000
DTEND;TZID=Australia/Brisbane:20260616T213000
DTSTAMP:20260424T102922
CREATED:20260419T015229Z
LAST-MODIFIED:20260419T015229Z
UID:21951-1781634600-1781645400@creativeglassguild.com.au
SUMMARY:BLC2: Leadlight & Copperfoiling – Beginners (5 May to 30 June)
DESCRIPTION:Leadlight & Copperfoiling – Beginners\nTutor: Warren Collins and Denis Reedy \nA comprehensive 27-hour course over 9 weeks. It teaches the skills and techniques necessary to continue onto advanced leadlight or copperfoil projects such as larger leadlight window panels incorporating intricate copper foiled designs. \nCourse includes safety awareness; scoring\, breaking and trimming complex glass shapes using running and grozing pliers; accurate cutting of complex glass shapes to a pattern\, drawing your cartoon and preparing the jig; leading\, soldering and cementing; applying patina and polish for both a leadlight and copperfoil project. \nTo achieve these skills and techniques\, the tutors will provide a selection of designs suitable for beginners to create a 32 x 25 cm leadlight window-style panel. You will also be taught copper foiling techniques to make a small sun-catcher. \nNumbers: Minimum 6. Maximum 8 \nPrerequisite: No experience necessary. \nCosts: All materials – clear and coloured glass\, chemicals\, lead\, notes\, use of tools\, etc. are included.  Our beginner courses and workshops have no hidden costs.
URL:https://creativeglassguild.com.au/event/blc2-leadlight-copperfoiling-beginners-5-may-to-30-june/2026-06-16/
LOCATION:Creative Glass Guild of Queensland\, Upstairs\, 64 Fulcher Road\, Red Hill\, Queensland\, 4059\, Australia
CATEGORIES:Leadlight & Copperfoiling – Beginners
ATTACH;FMTTYPE=image/jpeg:https://creativeglassguild.com.au/wp-content/uploads/2022/07/LC-voucher.jpg
END:VEVENT
BEGIN:VEVENT
DTSTART;TZID=Australia/Brisbane:20260617T093000
DTEND;TZID=Australia/Brisbane:20260617T140000
DTSTAMP:20260424T102922
CREATED:20251205T100839Z
LAST-MODIFIED:20260326T072605Z
UID:21287-1781688600-1781704800@creativeglassguild.com.au
SUMMARY:Members' Project Time - Wednesday
DESCRIPTION:Creative Glass Guild members are able to use Guild workshop facilities during members’ project open times. You may hire use of kilns\, sandblaster\, bead making studio and use tools to work on your own projects without having to enrol in a course where tutors are available. Note though that the Guild may close at times for courses\, workshops\, maintenance or emergent priorities. Members will be notified by email of any changes. \nGuild facilities during Members’ Project Times are for the use of all members and certain obligations are expected. \nThe Guild’s Administrative Policy further details the expectations of members and students\, so that all can operate in a safe\, effective and inclusive environment. Please take the time to read this important information.
URL:https://creativeglassguild.com.au/event/members-project-time-wednesday/2026-06-17/
LOCATION:Creative Glass Guild of Queensland\, Downstairs\, 64 Fulcher Road\, Red Hill\, Queensland\, 4059\, Australia
CATEGORIES:Members Day
END:VEVENT
BEGIN:VEVENT
DTSTART;TZID=Australia/Brisbane:20260617T180000
DTEND;TZID=Australia/Brisbane:20260617T210000
DTSTAMP:20260424T102922
CREATED:20260404T082050Z
LAST-MODIFIED:20260404T083101Z
UID:21821-1781719200-1781730000@creativeglassguild.com.au
SUMMARY:BM3: Beginner Mosaics (June 17 to July 22)
DESCRIPTION:Mosaics – BEGINNERS\nTutors: April Araullo and Marianne Bland \nIn this 18-hour course held over 6 consecutive Wednesday evenings\, you will learn skills and techniques necessary to create a beautiful glass mosaic suitable for displaying inside your home or outside in your garden. You choose!   \nLearn how to score and cut glass; safety practices when working with glass; and use of various hand tools for cutting glass to a pattern. You will also learn how to use a grinder to refine the shape of your tesserae\, and finally\, to glue and grout your mosaic for the finished picture.  Tutors will provide a selection of designs suitable to create a 30 x 30 cm hanging mosaic.  Upon completion of the course\, you will have not only a beautiful mosaic to take home\, but also the knowledge to create your own glass mosaic projects. \nWhen: Wednesdays\, 6:00 to 9:00pm (18 hours) \nNumbers: Minimum 5\, Maximum 6 \nPrerequisite: No prior experience required.  \nCost: Includes all materials – glass\, substrate\, adhesives and grout\, hanging hardware – as well as course notes. Guild beginner courses have no hidden costs!
URL:https://creativeglassguild.com.au/event/bm3-beginner-mosaics/2026-06-17/
LOCATION:Creative Glass Guild of Queensland\, Downstairs\, 64 Fulcher Road\, Red Hill\, Queensland\, 4059\, Australia
CATEGORIES:Mosaics – Beginners
ATTACH;FMTTYPE=image/jpeg:https://creativeglassguild.com.au/wp-content/uploads/2025/02/Beginner-mosaics1.jpg
END:VEVENT
BEGIN:VEVENT
DTSTART;TZID=Australia/Brisbane:20260617T180000
DTEND;TZID=Australia/Brisbane:20260617T210000
DTSTAMP:20260424T102922
CREATED:20260414T034405Z
LAST-MODIFIED:20260414T034435Z
UID:21894-1781719200-1781730000@creativeglassguild.com.au
SUMMARY:IM3: Intermediate Mosaics (June 17 to July 22)
DESCRIPTION:Mosaics – INTERMEDIATE\nTutors: April Araullo and Marianne Bland \nThis 6-week evening course is for intermediate or advanced students to explore different techniques in mosaics and experiment with different adhesives and substrates with tutor assistance. You will work on your own project at your own pace. Projects that students have worked on include mixed media\, glass embellishment\, paper under glass\, glass on glass\, smalti\, mosaics on mesh\, 3 dimensional and portraits to name a few! \nAs a member\, you will have access to purchase glass and other materials\, but the Guild does not stock most adhesives\, grout\, various substrates\, etc. You will need to purchase yourself. \nNumbers: Minimum 4-6\, Maximum 8.  NOTE: Course is combined with Beginner students. \nPrerequisite: Guild membership and completion of a beginners’ mosaics course or equivalent; or\, Proficiency in glass scoring / cutting\, substrate and adhesives knowledge and ability as assessed by Tutor.
URL:https://creativeglassguild.com.au/event/im3-intermediate-mosaics/2026-06-17/
LOCATION:Creative Glass Guild of Queensland\, Downstairs\, 64 Fulcher Road\, Red Hill\, Queensland\, 4059\, Australia
CATEGORIES:Mosaics – Intermediate Evening
ATTACH;FMTTYPE=image/jpeg:https://creativeglassguild.com.au/wp-content/uploads/2021/09/Mosaics-5-1.jpg
END:VEVENT
BEGIN:VEVENT
DTSTART;TZID=Australia/Brisbane:20260618T093000
DTEND;TZID=Australia/Brisbane:20260618T123000
DTSTAMP:20260424T102922
CREATED:20251205T100917Z
LAST-MODIFIED:20260311T031330Z
UID:21577-1781775000-1781785800@creativeglassguild.com.au
SUMMARY:Members' Mosaic Madness
DESCRIPTION:A get-together for “mosaicing” members to share their glass mosaic experiences – their successes and challenges. \nThis group is the space to share tips and information with others who mosaic.  While we help others who are less experienced\, it does not replace our Wednesday evening Intermediate Mosaics course where tutors are available to support your projects. \nBring your mosaic projects to work on and join in the fun.  While focus is on creativity\, camaraderie and laughter\, sharing the workload of opening / closing\, cleaning up and providing shop facilities is desirable. \nBooking is not required but do check our website calendar to see if a Thursday session is not being held.
URL:https://creativeglassguild.com.au/event/members-mosaic-madness/2026-06-18/
LOCATION:Creative Glass Guild of Queensland\, Downstairs\, 64 Fulcher Road\, Red Hill\, Queensland\, 4059\, Australia
CATEGORIES:Members Day
END:VEVENT
BEGIN:VEVENT
DTSTART;TZID=Australia/Brisbane:20260618T183000
DTEND;TZID=Australia/Brisbane:20260618T213000
DTSTAMP:20260424T102922
CREATED:20251103T094110Z
LAST-MODIFIED:20251103T094224Z
UID:20372-1781807400-1781818200@creativeglassguild.com.au
SUMMARY:IPL1: Panel Lamp Construction (18 June to 20 August)
DESCRIPTION:Tutor: Jenny Keys \nRunning over 10 weeks on Thursday evenings\, students choose from three lamp designs\, or\, may choose their own simple pattern after discussion with\, and agreement by\, tutor. If you choose your own pattern\, you may need to work in your own time to complete lamp. \nNumbers: Minimum 4\, Maximum  8 \nPrerequisite: Guild membership and completion of Leadlight and Copper Foiling – Beginners or Copperfoiling – Beginners. \nCost: Includes copper foil\, solder\, lamp cap\, spider\, flux\, patina\, but not glass & lamp fixtures as these will vary depending on your requirements. (Glass for a basic lamp may cost $80.00 to $100.00.)
URL:https://creativeglassguild.com.au/event/ipl1-panel-lamp-construction/2026-06-18/
LOCATION:Creative Glass Guild of Queensland\, Upstairs\, 64 Fulcher Road\, Red Hill\, Queensland\, 4059\, Australia
CATEGORIES:Panel Lamp Construction – Intermediate
ATTACH;FMTTYPE=image/jpeg:https://creativeglassguild.com.au/wp-content/uploads/2023/12/Panel-Lamp.jpg
END:VEVENT
BEGIN:VEVENT
DTSTART;TZID=Australia/Brisbane:20260619T090000
DTEND;TZID=Australia/Brisbane:20260619T090000
DTSTAMP:20260424T102922
CREATED:20251205T101047Z
LAST-MODIFIED:20260326T072731Z
UID:21304-1781859600-1781859600@creativeglassguild.com.au
SUMMARY:Members' Project Time - Friday
DESCRIPTION:Creative Glass Guild members are able to use Guild workshop facilities during members’ project open times. You may hire use of kilns\, sandblaster\, bead making studio and use tools to work on your own projects without having to enrol in a course where tutors are available. Note though that the Guild may close at times for courses\, workshops\, maintenance or emergent priorities. Members will be notified by email of any changes. \nGuild facilities during Members’ Project Times are for the use of all members and certain obligations are expected. \nThe Guild’s Administrative Policy further details the expectations of members and students\, so that all can operate in a safe\, effective and inclusive environment. Please take the time to read this important information.
URL:https://creativeglassguild.com.au/event/members-project-time-friday/2026-06-19/
LOCATION:Creative Glass Guild of Queensland\, Downstairs\, 64 Fulcher Road\, Red Hill\, Queensland\, 4059\, Australia
CATEGORIES:Members Day
END:VEVENT
BEGIN:VEVENT
DTSTART;TZID=Australia/Brisbane:20260620T090000
DTEND;TZID=Australia/Brisbane:20260620T120000
DTSTAMP:20260424T102922
CREATED:20251205T101141Z
LAST-MODIFIED:20260326T072717Z
UID:21321-1781946000-1781956800@creativeglassguild.com.au
SUMMARY:Members' Project Time - Saturday
DESCRIPTION:Creative Glass Guild members are able to use Guild workshop facilities during members’ project open times. You may hire use of kilns\, sandblaster\, bead making studio and use tools to work on your own projects without having to enrol in a course where tutors are available. Note though that the Guild may close at times for courses\, workshops\, maintenance or emergent priorities. Members will be notified by email of any changes. \nGuild facilities during Members’ Project Times are for the use of all members and certain obligations are expected. \nThe Guild’s Administrative Policy further details the expectations of members and students\, so that all can operate in a safe\, effective and inclusive environment. Please take the time to read this important information.
URL:https://creativeglassguild.com.au/event/members-project-time-saturday/2026-06-20/
LOCATION:Creative Glass Guild of Queensland\, Downstairs\, 64 Fulcher Road\, Red Hill\, Queensland\, 4059\, Australia
CATEGORIES:Members Day
END:VEVENT
BEGIN:VEVENT
DTSTART;TZID=Australia/Brisbane:20260620T090000
DTEND;TZID=Australia/Brisbane:20260620T130000
DTSTAMP:20260424T102922
CREATED:20250924T053609Z
LAST-MODIFIED:20260310T233553Z
UID:21077-1781946000-1781960400@creativeglassguild.com.au
SUMMARY:FWS6: Fused Aussie Flowers (13 and 20 June)
DESCRIPTION:Tutor: Chris Bell \nThis 8-hour workshop is held over 2 consecutive weekends to allow for pre-firing of your glass pieces before creating 6 beautiful Australian flowers. Many pictures of Aussie native flowers will be available for inspiration. \n \nDay 1: The tutor will demonstrate how to create a stock of the unique components of a flower – petals\, stamens\, stems\, leaves of various shapes and sizes. These pieces will be made by scoring and cutting glass. You will be taught how to bend and curl stringers as decoration. You will then prepare the pieces ready for firing and the construction of your flowers the following week.  \nDay 2: Wash your prepared pieces and build six 7 by 8 cm sized Aussie Floral ‘pictures’.  These will be placed in the kiln and fired ready for collection later in the week. At home\, you might turn these into a hanging decoration\, a pendant\, a picture by glueing on backing material and framing\, or display as they are. \nNumbers: Minimum 6\, Maximum 8 \nCost:  Includes all materials\, adhesive and firing fees. \nPrerequisite: Glass cutting skills necessary. Note: This workshop is not a replacement for the beginners fusing and slumping course.
URL:https://creativeglassguild.com.au/event/fws6-fused-aussie-flowers/2026-06-20/
LOCATION:Creative Glass Guild of Queensland\, Downstairs\, 64 Fulcher Road\, Red Hill\, Queensland\, 4059\, Australia
CATEGORIES:Aussie Flowers
ATTACH;FMTTYPE=image/jpeg:https://creativeglassguild.com.au/wp-content/uploads/2024/11/aussieflowers2-scaled-e1733549735901.jpg
END:VEVENT
END:VCALENDAR