BEGIN:VCALENDAR
VERSION:2.0
PRODID:-//Creative Glass Guild of Queensland - ECPv6.15.20//NONSGML v1.0//EN
CALSCALE:GREGORIAN
METHOD:PUBLISH
X-ORIGINAL-URL:https://creativeglassguild.com.au
X-WR-CALDESC:Events for Creative Glass Guild of Queensland
REFRESH-INTERVAL;VALUE=DURATION:PT1H
X-Robots-Tag:noindex
X-PUBLISHED-TTL:PT1H
BEGIN:VTIMEZONE
TZID:Australia/Brisbane
BEGIN:STANDARD
TZOFFSETFROM:+1000
TZOFFSETTO:+1000
TZNAME:AEST
DTSTART:20250101T000000
END:STANDARD
END:VTIMEZONE
BEGIN:VEVENT
DTSTART;TZID=Australia/Brisbane:20260419T090000
DTEND;TZID=Australia/Brisbane:20260419T130000
DTSTAMP:20260424T053017
CREATED:20250924T052230Z
LAST-MODIFIED:20260215T064746Z
UID:20055-1776589200-1776603600@creativeglassguild.com.au
SUMMARY:FWS3: Fused Aussie Flowers (12 and 19 April)
DESCRIPTION:Tutor: Chris Bell \nThis 8-hour workshop is held over 2 consecutive Sundays to allow for pre-firing of your glass pieces before creating 6 beautiful Australian flowers. Many pictures of Aussie native flowers will be available for inspiration. \n \nDay 1: The tutor will demonstrate how to create a stock of the unique components of a flower – petals\, stamens\, stems\, leaves of various shapes and sizes. These pieces will be made by scoring and cutting glass. You will be taught how to bend and curl stringers as decoration. You will then prepare the pieces ready for firing and the construction of your flowers the following week.  \nDay 2: Wash your prepared pieces and build six 7 by 8 cm sized Aussie Floral ‘pictures’.  These will be placed in the kiln and fired ready for collection later in the week. At home\, you might turn these into a hanging decoration\, a pendant\, a picture by glueing on backing material and framing\, or display as they are. \nNumbers: Minimum 6\, Maximum 8 \nCost:  Includes all materials\, adhesive and firing fees. \nPrerequisite: Glass cutting skills necessary. Note: This workshop is not a replacement for the beginners fusing and slumping course.
URL:https://creativeglassguild.com.au/event/fws3-fused-aussie-flowers/2026-04-19/
LOCATION:Creative Glass Guild of Queensland\, Downstairs\, 64 Fulcher Road\, Red Hill\, Queensland\, 4059\, Australia
CATEGORIES:Aussie Flowers
ATTACH;FMTTYPE=image/jpeg:https://creativeglassguild.com.au/wp-content/uploads/2024/11/aussieflowers2-scaled-e1733549735901.jpg
END:VEVENT
BEGIN:VEVENT
DTSTART;TZID=Australia/Brisbane:20260420T090000
DTEND;TZID=Australia/Brisbane:20260420T150000
DTSTAMP:20260424T053017
CREATED:20251205T100427Z
LAST-MODIFIED:20260326T072438Z
UID:21235-1776675600-1776697200@creativeglassguild.com.au
SUMMARY:Members' Project Time - Monday Daytime
DESCRIPTION:Creative Glass Guild members are able to use Guild workshop facilities during members’ project open times. You may hire use of kilns\, sandblaster\, bead making studio and use tools to work on your own projects without having to enrol in a course where tutors are available. Note though that the Guild may close at times for courses\, workshops\, maintenance or emergent priorities. Members will be notified by email of any changes. \nGuild facilities during Members’ Project Times are for the use of all members and certain obligations are expected. \nThe Guild’s Administrative Policy further details expectations of members and students\, so that all can operate in a safe\, effective and inclusive environment. Please take the time to read this important information.
URL:https://creativeglassguild.com.au/event/members-project-time-monday-daytime-2/2026-04-20/
LOCATION:Creative Glass Guild of Queensland\, Downstairs\, 64 Fulcher Road\, Red Hill\, Queensland\, 4059\, Australia
CATEGORIES:Members Day
END:VEVENT
BEGIN:VEVENT
DTSTART;TZID=Australia/Brisbane:20260420T160000
DTEND;TZID=Australia/Brisbane:20260420T200000
DTSTAMP:20260424T053017
CREATED:20251205T100612Z
LAST-MODIFIED:20260326T072534Z
UID:21261-1776700800-1776715200@creativeglassguild.com.au
SUMMARY:Members' Project Time - Monday Evening
DESCRIPTION:Creative Glass Guild members are able to use Guild workshop facilities during members’ project open times. You may hire use of kilns\, sandblaster\, bead making studio and use tools to work on your own projects without having to enrol in a course where tutors are available. Note though that the Guild may close at times for courses\, workshops\, maintenance or emergent priorities. Members will be notified by email of any changes. \nGuild facilities during Members’ Project Times are for the use of all members and certain obligations are expected. \nThe Guild’s Administrative Policy further details the expectations of members and students\, so that all can operate in a safe\, effective and inclusive environment. Please take the time to read this important information.
URL:https://creativeglassguild.com.au/event/members-project-time-monday-evening-2/2026-04-20/
LOCATION:Creative Glass Guild of Queensland\, Downstairs\, 64 Fulcher Road\, Red Hill\, Queensland\, 4059\, Australia
CATEGORIES:Members Day
END:VEVENT
BEGIN:VEVENT
DTSTART;TZID=Australia/Brisbane:20260420T170000
DTEND;TZID=Australia/Brisbane:20260420T200000
DTSTAMP:20260424T053017
CREATED:20260303T070640Z
LAST-MODIFIED:20260331T044815Z
UID:21429-1776704400-1776715200@creativeglassguild.com.au
SUMMARY:Making Christmas Decorations for Showcase Workshop\, 30 March to 20 April (Members Only)
DESCRIPTION:Organiser: Chris Bell  \nA call-out to members to help with making the popular Christmas Decorations which the Guild sells at the Showcase every year.  The 2026 Showcase will be held on Saturday 14 and Sunday 15 November at the Mt Coot-tha Botanic Gardens. The aim is to have more decorations than ever before – they sell like hotcakes! Bring your own tools. Glass and other materials supplied. \nLimited spaces in 4-week blocks: Bookings essential \nPrerequisite: Glass cutting skills necessary \nCost: Free
URL:https://creativeglassguild.com.au/event/christmas-decorations-showcase/2026-04-20/
LOCATION:Creative Glass Guild of Queensland\, Downstairs\, 64 Fulcher Road\, Red Hill\, Queensland\, 4059\, Australia
CATEGORIES:Christmas decorations
END:VEVENT
BEGIN:VEVENT
DTSTART;TZID=Australia/Brisbane:20260420T170000
DTEND;TZID=Australia/Brisbane:20260420T200000
DTSTAMP:20260424T053017
CREATED:20260308T024623Z
LAST-MODIFIED:20260314T083052Z
UID:21494-1776704400-1776715200@creativeglassguild.com.au
SUMMARY:Mosaic Ball Garden Project\, 13 April to 27 April (Members Only)
DESCRIPTION:[vc_row][vc_column][vc_column_text css=””]Organiser: Lyndall Davies \n\n\n\n\n\n\n\n\n\nMembers\, seeking help to make mosaic pieces to adhere to an 85cm diameter Pal Tiya ball which will stand in the front garden at the Guild. This “sculpture” will demonstrate further our creativity with glass and what we offer at the Guild.  \n144 pieces in all are needed to cover the ball and it will stand on a stainless-steel pole in the corner of the garden bordering the path to the front stairs. Looking forward to your joining in.  \nWhat to bring: Your own tools. Glass\, adhesive and other materials supplied. \nLimited spaces in 3-week blocks: Bookings essential. \nPrerequisite: Basic glass scoring and cutting skills. \nCost: Free[/vc_column_text][/vc_column][/vc_row]
URL:https://creativeglassguild.com.au/event/mosaic-ball-garden-project-1/2026-04-20/
LOCATION:Creative Glass Guild of Queensland\, Downstairs\, 64 Fulcher Road\, Red Hill\, Queensland\, 4059\, Australia
CATEGORIES:Mosaic Ball
END:VEVENT
BEGIN:VEVENT
DTSTART;TZID=Australia/Brisbane:20260421T183000
DTEND;TZID=Australia/Brisbane:20260421T213000
DTSTAMP:20260424T053017
CREATED:20250824T152702Z
LAST-MODIFIED:20260311T032502Z
UID:21031-1776796200-1776807000@creativeglassguild.com.au
SUMMARY:BLC1: Leadlight & Copperfoiling – Beginners (24 February to 21 April)
DESCRIPTION:Leadlight & Copperfoiling – Beginners\nTutor: Warren Collins and Denis Reedy \nALERT! This course has been rescheduled to Tuesday evenings not Thursday as originally advertised.  \nA comprehensive 27-hour course over 9 weeks. It teaches the skills and techniques necessary to continue onto advanced leadlight or copperfoil projects such as larger leadlight window panels incorporating intricate copper foiled designs. \nCourse includes safety awareness; scoring\, breaking and trimming complex glass shapes using running and grozing pliers; accurate cutting of complex glass shapes to a pattern\, drawing your cartoon and preparing the jig; leading\, soldering and cementing; applying patina and polish for both a leadlight and copperfoil project. \nTo achieve these skills and techniques\, the tutors will provide a selection of designs suitable for beginners to create a 32 x 25 cm leadlight window-style panel. You will also be taught copper foiling techniques to make a small sun-catcher. \nNumbers: Minimum 6. Maximum 8 \nPrerequisite: No experience necessary. \nCosts: All materials – clear and coloured glass\, chemicals\, lead\, notes\, use of tools\, etc. are included.  Our beginner courses and workshops have no hidden costs.
URL:https://creativeglassguild.com.au/event/blc1/2026-04-21/
LOCATION:Creative Glass Guild of Queensland\, Upstairs\, 64 Fulcher Road\, Red Hill\, Queensland\, 4059\, Australia
CATEGORIES:Leadlight & Copperfoiling – Beginners
ATTACH;FMTTYPE=image/jpeg:https://creativeglassguild.com.au/wp-content/uploads/2022/07/LC-voucher.jpg
END:VEVENT
BEGIN:VEVENT
DTSTART;TZID=Australia/Brisbane:20260422T093000
DTEND;TZID=Australia/Brisbane:20260422T140000
DTSTAMP:20260424T053017
CREATED:20251205T100839Z
LAST-MODIFIED:20260326T072603Z
UID:21279-1776850200-1776866400@creativeglassguild.com.au
SUMMARY:Members' Project Time - Wednesday
DESCRIPTION:Creative Glass Guild members are able to use Guild workshop facilities during members’ project open times. You may hire use of kilns\, sandblaster\, bead making studio and use tools to work on your own projects without having to enrol in a course where tutors are available. Note though that the Guild may close at times for courses\, workshops\, maintenance or emergent priorities. Members will be notified by email of any changes. \nGuild facilities during Members’ Project Times are for the use of all members and certain obligations are expected. \nThe Guild’s Administrative Policy further details the expectations of members and students\, so that all can operate in a safe\, effective and inclusive environment. Please take the time to read this important information.
URL:https://creativeglassguild.com.au/event/members-project-time-wednesday/2026-04-22/
LOCATION:Creative Glass Guild of Queensland\, Downstairs\, 64 Fulcher Road\, Red Hill\, Queensland\, 4059\, Australia
CATEGORIES:Members Day
END:VEVENT
BEGIN:VEVENT
DTSTART;TZID=Australia/Brisbane:20260422T180000
DTEND;TZID=Australia/Brisbane:20260422T210000
DTSTAMP:20260424T053017
CREATED:20250926T002625Z
LAST-MODIFIED:20251227T044755Z
UID:20084-1776880800-1776891600@creativeglassguild.com.au
SUMMARY:BM2: Beginner Mosaics (April 22 to May 27)
DESCRIPTION:Mosaics – BEGINNERS\nTutors: April Araullo and Marianne Bland \nIn this 18-hour course held over 6 consecutive Wednesday evenings\, you will learn skills and techniques necessary to create a beautiful glass mosaic suitable for displaying inside your home or outside in your garden. You choose!   \nLearn how to score and cut glass; safety practices when working with glass; and use of various hand tools for cutting glass to a pattern. You will also learn how to use a grinder to refine the shape of your tesserae\, and finally\, to glue and grout your mosaic for the finished picture.  Tutors will provide a selection of designs suitable to create a 30 x 30 cm hanging mosaic.  Upon completion of the course\, you will have not only a beautiful mosaic to take home\, but also the knowledge to create your own glass mosaic projects. \nWhen: Wednesdays\, 6:00 to 9:00pm (18 hours) \nNumbers: Minimum 5\, Maximum 6 \nPrerequisite: No prior experience required.  \nCost: Includes all materials – glass\, substrate\, adhesives and grout\, hanging hardware – as well as course notes. Guild beginner courses have no hidden costs!
URL:https://creativeglassguild.com.au/event/bm2-beginner-mosaics/2026-04-22/
LOCATION:Creative Glass Guild of Queensland\, Downstairs\, 64 Fulcher Road\, Red Hill\, Queensland\, 4059\, Australia
CATEGORIES:Mosaics – Beginners
ATTACH;FMTTYPE=image/jpeg:https://creativeglassguild.com.au/wp-content/uploads/2025/02/Beginner-mosaics1.jpg
END:VEVENT
BEGIN:VEVENT
DTSTART;TZID=Australia/Brisbane:20260422T180000
DTEND;TZID=Australia/Brisbane:20260422T210000
DTSTAMP:20260424T053017
CREATED:20250926T003529Z
LAST-MODIFIED:20251227T044837Z
UID:20097-1776880800-1776891600@creativeglassguild.com.au
SUMMARY:IM2: Intermediate Mosaics (April 22 to May 27)
DESCRIPTION:Mosaics – INTERMEDIATE\nTutors: April Araullo and Marianne Bland \nThis 6-week evening course is for intermediate or advanced students to explore different techniques in mosaics and experiment with different adhesives and substrates with tutor assistance. You will work on your own project at your own pace. Projects that students have worked on include mixed media\, glass embellishment\, paper under glass\, glass on glass\, smalti\, mosaics on mesh\, 3 dimensional and portraits to name a few! \nAs a member\, you will have access to purchase glass and other materials\, but the Guild does not stock most adhesives\, grout\, various substrates\, etc. You will need to purchase yourself. \nNumbers: Minimum 4-6\, Maximum 8.  NOTE: Course is combined with Beginner students. \nPrerequisite: Guild membership and completion of a beginners’ mosaics course or equivalent; or\, Proficiency in glass scoring / cutting\, substrate and adhesives knowledge and ability as assessed by Tutor.
URL:https://creativeglassguild.com.au/event/im2-intermediate-mosaics-april-22-to-may-27/2026-04-22/
LOCATION:Creative Glass Guild of Queensland\, Downstairs\, 64 Fulcher Road\, Red Hill\, Queensland\, 4059\, Australia
CATEGORIES:Mosaics – Intermediate Evening
ATTACH;FMTTYPE=image/jpeg:https://creativeglassguild.com.au/wp-content/uploads/2021/09/Mosaics-5-1.jpg
END:VEVENT
BEGIN:VEVENT
DTSTART;TZID=Australia/Brisbane:20260423T090000
DTEND;TZID=Australia/Brisbane:20260423T120000
DTSTAMP:20260424T053017
CREATED:20260314T094851Z
LAST-MODIFIED:20260314T094851Z
UID:21650-1776934800-1776945600@creativeglassguild.com.au
SUMMARY:Mosaic Ball Garden Project\, 9 April to 23 April (Members Only)
DESCRIPTION:Organiser: Lyndall Davies \n\n\n\n\n\n\n\n\n\nMembers\, seeking help to make mosaic pieces to adhere to an 85cm diameter Pal Tiya ball which will stand in the front garden at the Guild. This “sculpture” will demonstrate further our creativity with glass and what we offer at the Guild.  \n144 pieces in all are needed to cover the ball and it will stand on a stainless-steel pole in the corner of the garden bordering the path to the front stairs. Looking forward to your joining in.  \nWhat to bring: Your own tools. Glass\, adhesive and other materials supplied. \nLimited spaces in 3-week blocks: Bookings essential. \nPrerequisite: Basic glass scoring and cutting skills. \nCost: Free
URL:https://creativeglassguild.com.au/event/mosaic-ball-garden-project-9-april-to-23-april-members-only/2026-04-23/
LOCATION:Creative Glass Guild of Queensland\, Downstairs\, 64 Fulcher Road\, Red Hill\, Queensland\, 4059\, Australia
CATEGORIES:Mosaic Ball
END:VEVENT
BEGIN:VEVENT
DTSTART;TZID=Australia/Brisbane:20260423T093000
DTEND;TZID=Australia/Brisbane:20260423T123000
DTSTAMP:20260424T053017
CREATED:20251205T100917Z
LAST-MODIFIED:20260311T031303Z
UID:21569-1776936600-1776947400@creativeglassguild.com.au
SUMMARY:Members' Mosaic Madness
DESCRIPTION:A get-together for “mosaicing” members to share their glass mosaic experiences – their successes and challenges. \nThis group is the space to share tips and information with others who mosaic.  While we help others who are less experienced\, it does not replace our Wednesday evening Intermediate Mosaics course where tutors are available to support your projects. \nBring your mosaic projects to work on and join in the fun.  While focus is on creativity\, camaraderie and laughter\, sharing the workload of opening / closing\, cleaning up and providing shop facilities is desirable. \nBooking is not required but do check our website calendar to see if a Thursday session is not being held.
URL:https://creativeglassguild.com.au/event/members-mosaic-madness/2026-04-23/
LOCATION:Creative Glass Guild of Queensland\, Downstairs\, 64 Fulcher Road\, Red Hill\, Queensland\, 4059\, Australia
CATEGORIES:Members Day
END:VEVENT
BEGIN:VEVENT
DTSTART;TZID=Australia/Brisbane:20260424T090000
DTEND;TZID=Australia/Brisbane:20260424T090000
DTSTAMP:20260424T053017
CREATED:20251205T101047Z
LAST-MODIFIED:20260326T072723Z
UID:21296-1777021200-1777021200@creativeglassguild.com.au
SUMMARY:Members' Project Time - Friday
DESCRIPTION:Creative Glass Guild members are able to use Guild workshop facilities during members’ project open times. You may hire use of kilns\, sandblaster\, bead making studio and use tools to work on your own projects without having to enrol in a course where tutors are available. Note though that the Guild may close at times for courses\, workshops\, maintenance or emergent priorities. Members will be notified by email of any changes. \nGuild facilities during Members’ Project Times are for the use of all members and certain obligations are expected. \nThe Guild’s Administrative Policy further details the expectations of members and students\, so that all can operate in a safe\, effective and inclusive environment. Please take the time to read this important information.
URL:https://creativeglassguild.com.au/event/members-project-time-friday/2026-04-24/
LOCATION:Creative Glass Guild of Queensland\, Downstairs\, 64 Fulcher Road\, Red Hill\, Queensland\, 4059\, Australia
CATEGORIES:Members Day
END:VEVENT
BEGIN:VEVENT
DTSTART;TZID=Australia/Brisbane:20260425T090000
DTEND;TZID=Australia/Brisbane:20260425T120000
DTSTAMP:20260424T053017
CREATED:20251205T101141Z
LAST-MODIFIED:20260326T072715Z
UID:21313-1777107600-1777118400@creativeglassguild.com.au
SUMMARY:Members' Project Time - Saturday
DESCRIPTION:Creative Glass Guild members are able to use Guild workshop facilities during members’ project open times. You may hire use of kilns\, sandblaster\, bead making studio and use tools to work on your own projects without having to enrol in a course where tutors are available. Note though that the Guild may close at times for courses\, workshops\, maintenance or emergent priorities. Members will be notified by email of any changes. \nGuild facilities during Members’ Project Times are for the use of all members and certain obligations are expected. \nThe Guild’s Administrative Policy further details the expectations of members and students\, so that all can operate in a safe\, effective and inclusive environment. Please take the time to read this important information.
URL:https://creativeglassguild.com.au/event/members-project-time-saturday/2026-04-25/
LOCATION:Creative Glass Guild of Queensland\, Downstairs\, 64 Fulcher Road\, Red Hill\, Queensland\, 4059\, Australia
CATEGORIES:Members Day
END:VEVENT
END:VCALENDAR