BEGIN:VCALENDAR
VERSION:2.0
PRODID:-//Creative Glass Guild of Queensland - ECPv6.15.20//NONSGML v1.0//EN
CALSCALE:GREGORIAN
METHOD:PUBLISH
X-WR-CALNAME:Creative Glass Guild of Queensland
X-ORIGINAL-URL:https://creativeglassguild.com.au
X-WR-CALDESC:Events for Creative Glass Guild of Queensland
REFRESH-INTERVAL;VALUE=DURATION:PT1H
X-Robots-Tag:noindex
X-PUBLISHED-TTL:PT1H
BEGIN:VTIMEZONE
TZID:Australia/Brisbane
BEGIN:STANDARD
TZOFFSETFROM:+1000
TZOFFSETTO:+1000
TZNAME:AEST
DTSTART:20250101T000000
END:STANDARD
END:VTIMEZONE
BEGIN:VEVENT
DTSTART;TZID=Australia/Brisbane:20260309T160000
DTEND;TZID=Australia/Brisbane:20260309T200000
DTSTAMP:20260424T070329
CREATED:20251205T100612Z
LAST-MODIFIED:20260326T072524Z
UID:20861-1773072000-1773086400@creativeglassguild.com.au
SUMMARY:Members' Project Time - Monday Evening
DESCRIPTION:Creative Glass Guild members are able to use Guild workshop facilities during members’ project open times. You may hire use of kilns\, sandblaster\, bead making studio and use tools to work on your own projects without having to enrol in a course where tutors are available. Note though that the Guild may close at times for courses\, workshops\, maintenance or emergent priorities. Members will be notified by email of any changes. \nGuild facilities during Members’ Project Times are for the use of all members and certain obligations are expected. \nThe Guild’s Administrative Policy further details the expectations of members and students\, so that all can operate in a safe\, effective and inclusive environment. Please take the time to read this important information.
URL:https://creativeglassguild.com.au/event/members-project-time-monday-evening-2/2026-03-09/
LOCATION:Creative Glass Guild of Queensland\, Downstairs\, 64 Fulcher Road\, Red Hill\, Queensland\, 4059\, Australia
CATEGORIES:Members Day
END:VEVENT
BEGIN:VEVENT
DTSTART;TZID=Australia/Brisbane:20260310T183000
DTEND;TZID=Australia/Brisbane:20260310T213000
DTSTAMP:20260424T070329
CREATED:20250824T152702Z
LAST-MODIFIED:20260311T032500Z
UID:21025-1773167400-1773178200@creativeglassguild.com.au
SUMMARY:BLC1: Leadlight & Copperfoiling – Beginners (24 February to 21 April)
DESCRIPTION:Leadlight & Copperfoiling – Beginners\nTutor: Warren Collins and Denis Reedy \nALERT! This course has been rescheduled to Tuesday evenings not Thursday as originally advertised.  \nA comprehensive 27-hour course over 9 weeks. It teaches the skills and techniques necessary to continue onto advanced leadlight or copperfoil projects such as larger leadlight window panels incorporating intricate copper foiled designs. \nCourse includes safety awareness; scoring\, breaking and trimming complex glass shapes using running and grozing pliers; accurate cutting of complex glass shapes to a pattern\, drawing your cartoon and preparing the jig; leading\, soldering and cementing; applying patina and polish for both a leadlight and copperfoil project. \nTo achieve these skills and techniques\, the tutors will provide a selection of designs suitable for beginners to create a 32 x 25 cm leadlight window-style panel. You will also be taught copper foiling techniques to make a small sun-catcher. \nNumbers: Minimum 6. Maximum 8 \nPrerequisite: No experience necessary. \nCosts: All materials – clear and coloured glass\, chemicals\, lead\, notes\, use of tools\, etc. are included.  Our beginner courses and workshops have no hidden costs.
URL:https://creativeglassguild.com.au/event/blc1/2026-03-10/
LOCATION:Creative Glass Guild of Queensland\, Upstairs\, 64 Fulcher Road\, Red Hill\, Queensland\, 4059\, Australia
CATEGORIES:Leadlight & Copperfoiling – Beginners
ATTACH;FMTTYPE=image/jpeg:https://creativeglassguild.com.au/wp-content/uploads/2022/07/LC-voucher.jpg
END:VEVENT
BEGIN:VEVENT
DTSTART;TZID=Australia/Brisbane:20260312T093000
DTEND;TZID=Australia/Brisbane:20260312T123000
DTSTAMP:20260424T070329
CREATED:20251205T100917Z
LAST-MODIFIED:20260311T031301Z
UID:20621-1773307800-1773318600@creativeglassguild.com.au
SUMMARY:Members' Mosaic Madness
DESCRIPTION:A get-together for “mosaicing” members to share their glass mosaic experiences – their successes and challenges. \nThis group is the space to share tips and information with others who mosaic.  While we help others who are less experienced\, it does not replace our Wednesday evening Intermediate Mosaics course where tutors are available to support your projects. \nBring your mosaic projects to work on and join in the fun.  While focus is on creativity\, camaraderie and laughter\, sharing the workload of opening / closing\, cleaning up and providing shop facilities is desirable. \nBooking is not required but do check our website calendar to see if a Thursday session is not being held.
URL:https://creativeglassguild.com.au/event/members-mosaic-madness/2026-03-12/
LOCATION:Creative Glass Guild of Queensland\, Downstairs\, 64 Fulcher Road\, Red Hill\, Queensland\, 4059\, Australia
CATEGORIES:Members Day
END:VEVENT
END:VCALENDAR