BEGIN:VCALENDAR
VERSION:2.0
PRODID:-//Creative Glass Guild of Queensland - ECPv6.15.20//NONSGML v1.0//EN
CALSCALE:GREGORIAN
METHOD:PUBLISH
X-WR-CALNAME:Creative Glass Guild of Queensland
X-ORIGINAL-URL:https://creativeglassguild.com.au
X-WR-CALDESC:Events for Creative Glass Guild of Queensland
REFRESH-INTERVAL;VALUE=DURATION:PT1H
X-Robots-Tag:noindex
X-PUBLISHED-TTL:PT1H
BEGIN:VTIMEZONE
TZID:Australia/Brisbane
BEGIN:STANDARD
TZOFFSETFROM:+1000
TZOFFSETTO:+1000
TZNAME:AEST
DTSTART:20250101T000000
END:STANDARD
END:VTIMEZONE
BEGIN:VEVENT
DTSTART;TZID=Australia/Brisbane:20261129T093000
DTEND;TZID=Australia/Brisbane:20261129T120000
DTSTAMP:20260424T102159
CREATED:20251104T020737Z
LAST-MODIFIED:20260331T050030Z
UID:20441-1795944600-1795953600@creativeglassguild.com.au
SUMMARY:BMT4: Glass Bead Making - Kris Kringle
DESCRIPTION:Tutor: Lenore Keough \nThis tutorial covers learning new shapes and the application of surface decoration using stringers and rods to sculp various glass forms. Students will be taught the use of a tools and decorative techniques to make three Christmas themed beads. You will review basic torching skills before being taught to make beads of a decorated Xmas tree\, a plum pudding and the head of Rudolf the reindeer. \nNumbers: Minimum 3\, Maximum 5 \nPrerequisite: Students to have done torching or completed a beginners’ course at the Guild or elsewhere of at least 12 hours duration. Confidence in making and shaping simple beads and adding dots in controlled way.
URL:https://creativeglassguild.com.au/event/bmt4-kris-kringle/
LOCATION:Creative Glass Guild of Queensland\, Upstairs\, 64 Fulcher Road\, Red Hill\, Queensland\, 4059\, Australia
CATEGORIES:glass bead making extension
END:VEVENT
BEGIN:VEVENT
DTSTART;TZID=Australia/Brisbane:20261205T093000
DTEND;TZID=Australia/Brisbane:20261205T120000
DTSTAMP:20260424T102159
CREATED:20260205T223509Z
LAST-MODIFIED:20260205T223708Z
UID:20924-1796463000-1796472000@creativeglassguild.com.au
SUMMARY:Beadmaker Buddy-Up - Christmas Break Up\, 5 December\, 9:30am to 12:00pm
DESCRIPTION:
URL:https://creativeglassguild.com.au/event/beadmaker-buddy-up-5-dec/
LOCATION:Creative Glass Guild of Queensland\, Upstairs\, 64 Fulcher Road\, Red Hill\, Queensland\, 4059\, Australia
CATEGORIES:glass bead making buddy up
END:VEVENT
BEGIN:VEVENT
DTSTART;TZID=Australia/Brisbane:20261205T093000
DTEND;TZID=Australia/Brisbane:20261205T153000
DTSTAMP:20260424T102159
CREATED:20260302T232303Z
LAST-MODIFIED:20260302T232603Z
UID:21117-1796463000-1796484600@creativeglassguild.com.au
SUMMARY:FWS12: Fused Glass Christmas Decorations
DESCRIPTION:Tutor: Chris Bell \nGreat presents for Christmas! In this workshop\, the tutor will provide a number of Christmas themed designs to work on\, or you can bring your own. Instruction will be given to those who have not cut glass before. Expect to make about 8 to 10 decorations which\, after firing\, you will take home along with the “bibs and bobs” to decorate them. \nNumbers: Minimum 6\, Maximum 8 \nPrerequisite: Glass cutting skills necessary. Note: This workshop is not a replacement for the beginners fusing and slumping course. \nCost: Includes glass cutting instruction\, small glass pack\, firing fees\, adhesives\, ribbons and decorations to finish at home. Additional glass is available to purchase.
URL:https://creativeglassguild.com.au/event/fws12-fused-glass-christmas-decorations/
LOCATION:Creative Glass Guild of Queensland\, Downstairs\, 64 Fulcher Road\, Red Hill\, Queensland\, 4059\, Australia
CATEGORIES:Fused Glass Christmas Decorations
END:VEVENT
END:VCALENDAR