BEGIN:VCALENDAR
VERSION:2.0
PRODID:-//Creative Glass Guild of Queensland - ECPv6.15.20//NONSGML v1.0//EN
CALSCALE:GREGORIAN
METHOD:PUBLISH
X-WR-CALNAME:Creative Glass Guild of Queensland
X-ORIGINAL-URL:https://creativeglassguild.com.au
X-WR-CALDESC:Events for Creative Glass Guild of Queensland
REFRESH-INTERVAL;VALUE=DURATION:PT1H
X-Robots-Tag:noindex
X-PUBLISHED-TTL:PT1H
BEGIN:VTIMEZONE
TZID:Australia/Brisbane
BEGIN:STANDARD
TZOFFSETFROM:+1000
TZOFFSETTO:+1000
TZNAME:AEST
DTSTART:20250101T000000
END:STANDARD
END:VTIMEZONE
BEGIN:VEVENT
DTSTART;TZID=Australia/Brisbane:20261005T170000
DTEND;TZID=Australia/Brisbane:20261005T200000
DTSTAMP:20260424T144604
CREATED:20260308T013323Z
LAST-MODIFIED:20260314T084217Z
UID:21452-1791219600-1791230400@creativeglassguild.com.au
SUMMARY:Making Christmas Decorations for Showcase Workshop\, 14 September to 5 October (Members Only)
DESCRIPTION:[vc_row][vc_column][vc_column_text css=””]Organiser: Chris Bell \nA call-out to members to help with making the popular Christmas Decorations which the Guild sells at the Showcase every year.  The 2026 Showcase will be held on Saturday 14 and Sunday 15 November at the Mt Coot-tha Botanic Gardens. The aim is to have more decorations than ever before – they sell like hotcakes! \nBring your own tools. Glass and other materials supplied. \nLimited spaces in 4-week blocks: Bookings essential \nPrerequisite: Glass cutting skills necessary \nCost: Free[/vc_column_text][/vc_column][/vc_row]
URL:https://creativeglassguild.com.au/event/christmas-decorations-showcase-6/2026-10-05/
LOCATION:Creative Glass Guild of Queensland\, Downstairs\, 64 Fulcher Road\, Red Hill\, Queensland\, 4059\, Australia
CATEGORIES:Christmas decorations
END:VEVENT
BEGIN:VEVENT
DTSTART;TZID=Australia/Brisbane:20261010T093000
DTEND;TZID=Australia/Brisbane:20261010T120000
DTSTAMP:20260424T144604
CREATED:20260205T232922Z
LAST-MODIFIED:20260205T232922Z
UID:20949-1791624600-1791633600@creativeglassguild.com.au
SUMMARY:Beadmaker Buddy-Up - Unusual ways with clear glass\, 10 October\, 9:30am to 12:00pm
DESCRIPTION:
URL:https://creativeglassguild.com.au/event/beadmaker-buddy-up-clear-glass/
LOCATION:Creative Glass Guild of Queensland\, Upstairs\, 64 Fulcher Road\, Red Hill\, Queensland\, 4059\, Australia
CATEGORIES:glass bead making buddy up
END:VEVENT
BEGIN:VEVENT
DTSTART;TZID=Australia/Brisbane:20261011T090000
DTEND;TZID=Australia/Brisbane:20261011T160000
DTSTAMP:20260424T144604
CREATED:20251124T043803Z
LAST-MODIFIED:20251124T050222Z
UID:20521-1791709200-1791734400@creativeglassguild.com.au
SUMMARY:FWS8: Kiln Carving - Making Patterns in Glass
DESCRIPTION:Kiln Carving – Making patterns in glass\nTutor: Katrina Jackson \nLearn how to “carve” glass\, to create and cut patterns from ceramic fibre paper. Understand the types of glass to use; and kiln firing processes involved. Safety procedures for using glass and ceramic fibre products are covered. A great beginner workshop as no glass cutting skills are required. Experienced glass users will also benefit by learning new techniques to add to their glass creating repetoire. Participants will make two glass “kiln carved” projects. \nWorkshop is not a replacement for beginners’ fusing and slumping course. Participants will not be taught how to care for and use the Guild kilns. \nNumbers: Minimum 5\, Maximum 6 \nPrerequisite: No experience necessary. \nCost: Includes all materials as well as kiln firings. No hidden costs.
URL:https://creativeglassguild.com.au/event/fws8-kiln-carving/
LOCATION:Creative Glass Guild of Queensland\, Downstairs\, 64 Fulcher Road\, Red Hill\, Queensland\, 4059\, Australia
CATEGORIES:Kiln Carving
ATTACH;FMTTYPE=image/jpeg:https://creativeglassguild.com.au/wp-content/uploads/Kiln-Carving-Sample-Dragon-Flies.jpg
END:VEVENT
BEGIN:VEVENT
DTSTART;TZID=Australia/Brisbane:20261017T090000
DTEND;TZID=Australia/Brisbane:20261017T153000
DTSTAMP:20260424T144604
CREATED:20250821T053919Z
LAST-MODIFIED:20260325T082526Z
UID:19478-1792227600-1792251000@creativeglassguild.com.au
SUMMARY:BBM6: Glass Bead Making - Beginners (17 and 18 October)
DESCRIPTION:Glass Bead Making – Beginners\nTutor: Wendy McKean \nDay 1: Introduction to lampworking tools and equipment; safety requirements\, use of hothead torch as well as instruction on how to make your own glass beads. You will have time to practice this new skill with various bead shapes. \nDay 2: Learn to pull glass stringers; how to apply dots and other simple decorative techniques while getting creative with colour. \nNumbers: Minimum 3\, Maximum 5 \nPrerequisite: No experience necessary. Suitable for students who have never tried torching or those with minimal glass bead making experience. \nNote: Guild beginner courses have no hidden costs.
URL:https://creativeglassguild.com.au/event/bbm6-beginners-beadmaking/2026-10-17/
LOCATION:Creative Glass Guild of Queensland\, Upstairs\, 64 Fulcher Road\, Red Hill\, Queensland\, 4059\, Australia
CATEGORIES:glass bead making beginners
END:VEVENT
BEGIN:VEVENT
DTSTART;TZID=Australia/Brisbane:20261018T090000
DTEND;TZID=Australia/Brisbane:20261018T153000
DTSTAMP:20260424T144604
CREATED:20250821T053919Z
LAST-MODIFIED:20260325T082527Z
UID:19481-1792314000-1792337400@creativeglassguild.com.au
SUMMARY:BBM6: Glass Bead Making - Beginners (17 and 18 October)
DESCRIPTION:Glass Bead Making – Beginners\nTutor: Wendy McKean \nDay 1: Introduction to lampworking tools and equipment; safety requirements\, use of hothead torch as well as instruction on how to make your own glass beads. You will have time to practice this new skill with various bead shapes. \nDay 2: Learn to pull glass stringers; how to apply dots and other simple decorative techniques while getting creative with colour. \nNumbers: Minimum 3\, Maximum 5 \nPrerequisite: No experience necessary. Suitable for students who have never tried torching or those with minimal glass bead making experience. \nNote: Guild beginner courses have no hidden costs.
URL:https://creativeglassguild.com.au/event/bbm6-beginners-beadmaking/2026-10-18/
LOCATION:Creative Glass Guild of Queensland\, Upstairs\, 64 Fulcher Road\, Red Hill\, Queensland\, 4059\, Australia
CATEGORIES:glass bead making beginners
END:VEVENT
BEGIN:VEVENT
DTSTART;TZID=Australia/Brisbane:20261025T090000
DTEND;TZID=Australia/Brisbane:20261025T160000
DTSTAMP:20260424T144604
CREATED:20251130T023309Z
LAST-MODIFIED:20251130T023309Z
UID:20555-1792918800-1792944000@creativeglassguild.com.au
SUMMARY:IFS3: Intermediate Fusing and Slumping
DESCRIPTION:This course is for members who have completed a Beginners Fusing and Slumping course at the Guild to experiment and create their own fused designs with a tutor to support.  The tutor will assist in choosing patterns and molds at the appropriate skill level; suggest project design choices; and assist in selecting glass. Students will also be helped in more intricate glass cutting techniques and project composition as well as setting the kiln.  Come prepared with design ideas and inspirations. \nStudents will need to purchase their own glass\, frit\, dots and other fused accessories. Tools are available for use but it is recommended students purchase their own scorers. \nNumbers: Minimum 5\, Maximum 8  \n \nPrerequisite: Guild membership and completion of the Beginners Fusing and Slumping course.
URL:https://creativeglassguild.com.au/event/ifs3-intermediate-fusing-and-slumping/
LOCATION:Creative Glass Guild of Queensland\, Downstairs\, 64 Fulcher Road\, Red Hill\, Queensland\, 4059\, Australia
CATEGORIES:Intermediate Fusing and Slumping
ATTACH;FMTTYPE=image/jpeg:https://creativeglassguild.com.au/wp-content/uploads/2025/11/IMG_3334-rotated-e1764469904425.jpg
END:VEVENT
END:VCALENDAR