BEGIN:VCALENDAR
VERSION:2.0
PRODID:-//Creative Glass Guild of Queensland - ECPv6.15.20//NONSGML v1.0//EN
CALSCALE:GREGORIAN
METHOD:PUBLISH
X-ORIGINAL-URL:https://creativeglassguild.com.au
X-WR-CALDESC:Events for Creative Glass Guild of Queensland
REFRESH-INTERVAL;VALUE=DURATION:PT1H
X-Robots-Tag:noindex
X-PUBLISHED-TTL:PT1H
BEGIN:VTIMEZONE
TZID:Australia/Brisbane
BEGIN:STANDARD
TZOFFSETFROM:+1000
TZOFFSETTO:+1000
TZNAME:AEST
DTSTART:20250101T000000
END:STANDARD
END:VTIMEZONE
BEGIN:VEVENT
DTSTART;TZID=Australia/Brisbane:20260427T170000
DTEND;TZID=Australia/Brisbane:20260427T200000
DTSTAMP:20260424T090520
CREATED:20260308T024623Z
LAST-MODIFIED:20260314T083053Z
UID:21495-1777309200-1777320000@creativeglassguild.com.au
SUMMARY:Mosaic Ball Garden Project\, 13 April to 27 April (Members Only)
DESCRIPTION:[vc_row][vc_column][vc_column_text css=””]Organiser: Lyndall Davies \n\n\n\n\n\n\n\n\n\nMembers\, seeking help to make mosaic pieces to adhere to an 85cm diameter Pal Tiya ball which will stand in the front garden at the Guild. This “sculpture” will demonstrate further our creativity with glass and what we offer at the Guild.  \n144 pieces in all are needed to cover the ball and it will stand on a stainless-steel pole in the corner of the garden bordering the path to the front stairs. Looking forward to your joining in.  \nWhat to bring: Your own tools. Glass\, adhesive and other materials supplied. \nLimited spaces in 3-week blocks: Bookings essential. \nPrerequisite: Basic glass scoring and cutting skills. \nCost: Free[/vc_column_text][/vc_column][/vc_row]
URL:https://creativeglassguild.com.au/event/mosaic-ball-garden-project-1/2026-04-27/
LOCATION:Creative Glass Guild of Queensland\, Downstairs\, 64 Fulcher Road\, Red Hill\, Queensland\, 4059\, Australia
CATEGORIES:Mosaic Ball
END:VEVENT
BEGIN:VEVENT
DTSTART;TZID=Australia/Brisbane:20260429T180000
DTEND;TZID=Australia/Brisbane:20260429T210000
DTSTAMP:20260424T090520
CREATED:20250926T002625Z
LAST-MODIFIED:20251227T044755Z
UID:20086-1777485600-1777496400@creativeglassguild.com.au
SUMMARY:BM2: Beginner Mosaics (April 22 to May 27)
DESCRIPTION:Mosaics – BEGINNERS\nTutors: April Araullo and Marianne Bland \nIn this 18-hour course held over 6 consecutive Wednesday evenings\, you will learn skills and techniques necessary to create a beautiful glass mosaic suitable for displaying inside your home or outside in your garden. You choose!   \nLearn how to score and cut glass; safety practices when working with glass; and use of various hand tools for cutting glass to a pattern. You will also learn how to use a grinder to refine the shape of your tesserae\, and finally\, to glue and grout your mosaic for the finished picture.  Tutors will provide a selection of designs suitable to create a 30 x 30 cm hanging mosaic.  Upon completion of the course\, you will have not only a beautiful mosaic to take home\, but also the knowledge to create your own glass mosaic projects. \nWhen: Wednesdays\, 6:00 to 9:00pm (18 hours) \nNumbers: Minimum 5\, Maximum 6 \nPrerequisite: No prior experience required.  \nCost: Includes all materials – glass\, substrate\, adhesives and grout\, hanging hardware – as well as course notes. Guild beginner courses have no hidden costs!
URL:https://creativeglassguild.com.au/event/bm2-beginner-mosaics/2026-04-29/
LOCATION:Creative Glass Guild of Queensland\, Downstairs\, 64 Fulcher Road\, Red Hill\, Queensland\, 4059\, Australia
CATEGORIES:Mosaics – Beginners
ATTACH;FMTTYPE=image/jpeg:https://creativeglassguild.com.au/wp-content/uploads/2025/02/Beginner-mosaics1.jpg
END:VEVENT
BEGIN:VEVENT
DTSTART;TZID=Australia/Brisbane:20260429T180000
DTEND;TZID=Australia/Brisbane:20260429T210000
DTSTAMP:20260424T090520
CREATED:20250926T003529Z
LAST-MODIFIED:20251227T044837Z
UID:20099-1777485600-1777496400@creativeglassguild.com.au
SUMMARY:IM2: Intermediate Mosaics (April 22 to May 27)
DESCRIPTION:Mosaics – INTERMEDIATE\nTutors: April Araullo and Marianne Bland \nThis 6-week evening course is for intermediate or advanced students to explore different techniques in mosaics and experiment with different adhesives and substrates with tutor assistance. You will work on your own project at your own pace. Projects that students have worked on include mixed media\, glass embellishment\, paper under glass\, glass on glass\, smalti\, mosaics on mesh\, 3 dimensional and portraits to name a few! \nAs a member\, you will have access to purchase glass and other materials\, but the Guild does not stock most adhesives\, grout\, various substrates\, etc. You will need to purchase yourself. \nNumbers: Minimum 4-6\, Maximum 8.  NOTE: Course is combined with Beginner students. \nPrerequisite: Guild membership and completion of a beginners’ mosaics course or equivalent; or\, Proficiency in glass scoring / cutting\, substrate and adhesives knowledge and ability as assessed by Tutor.
URL:https://creativeglassguild.com.au/event/im2-intermediate-mosaics-april-22-to-may-27/2026-04-29/
LOCATION:Creative Glass Guild of Queensland\, Downstairs\, 64 Fulcher Road\, Red Hill\, Queensland\, 4059\, Australia
CATEGORIES:Mosaics – Intermediate Evening
ATTACH;FMTTYPE=image/jpeg:https://creativeglassguild.com.au/wp-content/uploads/2021/09/Mosaics-5-1.jpg
END:VEVENT
BEGIN:VEVENT
DTSTART;TZID=Australia/Brisbane:20260430T090000
DTEND;TZID=Australia/Brisbane:20260430T120000
DTSTAMP:20260424T090520
CREATED:20260314T095345Z
LAST-MODIFIED:20260314T095345Z
UID:21653-1777539600-1777550400@creativeglassguild.com.au
SUMMARY:Mosaic Ball Garden Project\, 30 April to 14 May (Members Only)
DESCRIPTION:Organiser: Lyndall Davies \n\n\n\n\n\n\n\n\n\nMembers\, seeking help to make mosaic pieces to adhere to an 85cm diameter Pal Tiya ball which will stand in the front garden at the Guild. This “sculpture” will demonstrate further our creativity with glass and what we offer at the Guild.  \n144 pieces in all are needed to cover the ball and it will stand on a stainless-steel pole in the corner of the garden bordering the path to the front stairs. Looking forward to your joining in.  \nWhat to bring: Your own tools. Glass\, adhesive and other materials supplied. \nLimited spaces in 3-week blocks: Bookings essential. \nPrerequisite: Basic glass scoring and cutting skills. \nCost: Free
URL:https://creativeglassguild.com.au/event/mosaic-ball-garden-project-30-april-to-14-may-members-only/2026-04-30/
LOCATION:Creative Glass Guild of Queensland\, Downstairs\, 64 Fulcher Road\, Red Hill\, Queensland\, 4059\, Australia
CATEGORIES:Mosaic Ball
END:VEVENT
END:VCALENDAR