BEGIN:VCALENDAR
VERSION:2.0
PRODID:-//Creative Glass Guild of Queensland - ECPv6.15.20//NONSGML v1.0//EN
CALSCALE:GREGORIAN
METHOD:PUBLISH
X-ORIGINAL-URL:https://creativeglassguild.com.au
X-WR-CALDESC:Events for Creative Glass Guild of Queensland
REFRESH-INTERVAL;VALUE=DURATION:PT1H
X-Robots-Tag:noindex
X-PUBLISHED-TTL:PT1H
BEGIN:VTIMEZONE
TZID:Australia/Brisbane
BEGIN:STANDARD
TZOFFSETFROM:+1000
TZOFFSETTO:+1000
TZNAME:AEST
DTSTART:20250101T000000
END:STANDARD
END:VTIMEZONE
BEGIN:VEVENT
DTSTART;TZID=Australia/Brisbane:20260302T160000
DTEND;TZID=Australia/Brisbane:20260302T200000
DTSTAMP:20260424T065505
CREATED:20251205T100612Z
LAST-MODIFIED:20260326T072523Z
UID:20586-1772467200-1772481600@creativeglassguild.com.au
SUMMARY:Members' Project Time - Monday Evening
DESCRIPTION:Creative Glass Guild members are able to use Guild workshop facilities during members’ project open times. You may hire use of kilns\, sandblaster\, bead making studio and use tools to work on your own projects without having to enrol in a course where tutors are available. Note though that the Guild may close at times for courses\, workshops\, maintenance or emergent priorities. Members will be notified by email of any changes. \nGuild facilities during Members’ Project Times are for the use of all members and certain obligations are expected. \nThe Guild’s Administrative Policy further details the expectations of members and students\, so that all can operate in a safe\, effective and inclusive environment. Please take the time to read this important information.
URL:https://creativeglassguild.com.au/event/members-project-time-monday-evening-2/2026-03-02/
LOCATION:Creative Glass Guild of Queensland\, Downstairs\, 64 Fulcher Road\, Red Hill\, Queensland\, 4059\, Australia
CATEGORIES:Members Day
END:VEVENT
END:VCALENDAR