BEGIN:VCALENDAR
VERSION:2.0
PRODID:-//Creative Glass Guild of Queensland - ECPv6.15.20//NONSGML v1.0//EN
CALSCALE:GREGORIAN
METHOD:PUBLISH
X-WR-CALNAME:Creative Glass Guild of Queensland
X-ORIGINAL-URL:https://creativeglassguild.com.au
X-WR-CALDESC:Events for Creative Glass Guild of Queensland
REFRESH-INTERVAL;VALUE=DURATION:PT1H
X-Robots-Tag:noindex
X-PUBLISHED-TTL:PT1H
BEGIN:VTIMEZONE
TZID:Australia/Brisbane
BEGIN:STANDARD
TZOFFSETFROM:+1000
TZOFFSETTO:+1000
TZNAME:AEST
DTSTART:20250101T000000
END:STANDARD
END:VTIMEZONE
BEGIN:VEVENT
DTSTART;TZID=Australia/Brisbane:20260518T170000
DTEND;TZID=Australia/Brisbane:20260518T200000
DTSTAMP:20260424T101337
CREATED:20260308T001451Z
LAST-MODIFIED:20260314T084411Z
UID:21443-1779123600-1779134400@creativeglassguild.com.au
SUMMARY:Making Christmas Decorations for Showcase Workshop\, 27 April to 18 May (Members Only)
DESCRIPTION:[vc_row][vc_column][vc_column_text css=””]Organiser: Chris Bell \nA call-out to members to help with making the popular Christmas Decorations which the Guild sells at the Showcase every year.  The 2026 Showcase will be held on Saturday 14 and Sunday 15 November at the Mt Coot-tha Botanic Gardens. The aim is to have more decorations than ever before – they sell like hotcakes! \nBring your own tools. Glass and other materials supplied. \nLimited spaces in 4-week blocks: Bookings essential \nPrerequisite: Glass cutting skills necessary \nCost: Free[/vc_column_text][/vc_column][/vc_row]
URL:https://creativeglassguild.com.au/event/christmas-decorations-showcase-2/2026-05-18/
LOCATION:Creative Glass Guild of Queensland\, Downstairs\, 64 Fulcher Road\, Red Hill\, Queensland\, 4059\, Australia
CATEGORIES:Christmas decorations
END:VEVENT
END:VCALENDAR