BEGIN:VCALENDAR
VERSION:2.0
PRODID:-//Creative Glass Guild of Queensland - ECPv6.15.20//NONSGML v1.0//EN
CALSCALE:GREGORIAN
METHOD:PUBLISH
X-ORIGINAL-URL:https://creativeglassguild.com.au
X-WR-CALDESC:Events for Creative Glass Guild of Queensland
REFRESH-INTERVAL;VALUE=DURATION:PT1H
X-Robots-Tag:noindex
X-PUBLISHED-TTL:PT1H
BEGIN:VTIMEZONE
TZID:Australia/Brisbane
BEGIN:STANDARD
TZOFFSETFROM:+1000
TZOFFSETTO:+1000
TZNAME:AEST
DTSTART:20250101T000000
END:STANDARD
END:VTIMEZONE
BEGIN:VEVENT
DTSTART;TZID=Australia/Brisbane:20260413T170000
DTEND;TZID=Australia/Brisbane:20260413T200000
DTSTAMP:20260424T084154
CREATED:20260303T070640Z
LAST-MODIFIED:20260331T044815Z
UID:21428-1776099600-1776110400@creativeglassguild.com.au
SUMMARY:Making Christmas Decorations for Showcase Workshop\, 30 March to 20 April (Members Only)
DESCRIPTION:Organiser: Chris Bell  \nA call-out to members to help with making the popular Christmas Decorations which the Guild sells at the Showcase every year.  The 2026 Showcase will be held on Saturday 14 and Sunday 15 November at the Mt Coot-tha Botanic Gardens. The aim is to have more decorations than ever before – they sell like hotcakes! Bring your own tools. Glass and other materials supplied. \nLimited spaces in 4-week blocks: Bookings essential \nPrerequisite: Glass cutting skills necessary \nCost: Free
URL:https://creativeglassguild.com.au/event/christmas-decorations-showcase/2026-04-13/
LOCATION:Creative Glass Guild of Queensland\, Downstairs\, 64 Fulcher Road\, Red Hill\, Queensland\, 4059\, Australia
CATEGORIES:Christmas decorations
END:VEVENT
BEGIN:VEVENT
DTSTART;TZID=Australia/Brisbane:20260427T170000
DTEND;TZID=Australia/Brisbane:20260427T200000
DTSTAMP:20260424T084154
CREATED:20260308T001451Z
LAST-MODIFIED:20260314T084410Z
UID:21355-1777309200-1777320000@creativeglassguild.com.au
SUMMARY:Making Christmas Decorations for Showcase Workshop\, 27 April to 18 May (Members Only)
DESCRIPTION:[vc_row][vc_column][vc_column_text css=””]Organiser: Chris Bell \nA call-out to members to help with making the popular Christmas Decorations which the Guild sells at the Showcase every year.  The 2026 Showcase will be held on Saturday 14 and Sunday 15 November at the Mt Coot-tha Botanic Gardens. The aim is to have more decorations than ever before – they sell like hotcakes! \nBring your own tools. Glass and other materials supplied. \nLimited spaces in 4-week blocks: Bookings essential \nPrerequisite: Glass cutting skills necessary \nCost: Free[/vc_column_text][/vc_column][/vc_row]
URL:https://creativeglassguild.com.au/event/christmas-decorations-showcase-2/2026-04-27/
LOCATION:Creative Glass Guild of Queensland\, Downstairs\, 64 Fulcher Road\, Red Hill\, Queensland\, 4059\, Australia
CATEGORIES:Christmas decorations
END:VEVENT
BEGIN:VEVENT
DTSTART;TZID=Australia/Brisbane:20260525T170000
DTEND;TZID=Australia/Brisbane:20260525T200000
DTSTAMP:20260424T084154
CREATED:20260308T004001Z
LAST-MODIFIED:20260314T084342Z
UID:21367-1779728400-1779739200@creativeglassguild.com.au
SUMMARY:Making Christmas Decorations for Showcase Workshop\, 25 May to 15 June (Members Only)
DESCRIPTION:[vc_row][vc_column][vc_column_text css=””]Organiser: Chris Bell \nA call-out to members to help with making the popular Christmas Decorations which the Guild sells at the Showcase every year.  The 2026 Showcase will be held on Saturday 14 and Sunday 15 November at the Mt Coot-tha Botanic Gardens. The aim is to have more decorations than ever before – they sell like hotcakes! \nBring your own tools. Glass and other materials supplied. \nLimited spaces in 4-week blocks: Bookings essential \nPrerequisite: Glass cutting skills necessary \nCost: Free[/vc_column_text][/vc_column][/vc_row]
URL:https://creativeglassguild.com.au/event/christmas-decorations-showcase-3/2026-05-25/
LOCATION:Creative Glass Guild of Queensland\, Downstairs\, 64 Fulcher Road\, Red Hill\, Queensland\, 4059\, Australia
CATEGORIES:Christmas decorations
END:VEVENT
BEGIN:VEVENT
DTSTART;TZID=Australia/Brisbane:20260622T170000
DTEND;TZID=Australia/Brisbane:20260622T200000
DTSTAMP:20260424T084154
CREATED:20260308T005627Z
LAST-MODIFIED:20260314T084320Z
UID:21378-1782147600-1782158400@creativeglassguild.com.au
SUMMARY:Making Christmas Decorations for Showcase Workshop\, 22 June to 13 July (Members Only)
DESCRIPTION:[vc_row][vc_column][vc_column_text css=””]Organiser: Chris Bell \nA call-out to members to help with making the popular Christmas Decorations which the Guild sells at the Showcase every year.  The 2026 Showcase will be held on Saturday 14 and Sunday 15 November at the Mt Coot-tha Botanic Gardens. The aim is to have more decorations than ever before – they sell like hotcakes! \nBring your own tools. Glass and other materials supplied. \nLimited spaces in 4-week blocks: Bookings essential \nPrerequisite: Glass cutting skills necessary \nCost: Free[/vc_column_text][/vc_column][/vc_row]
URL:https://creativeglassguild.com.au/event/christmas-decoration-showcase/2026-06-22/
LOCATION:Creative Glass Guild of Queensland\, Downstairs\, 64 Fulcher Road\, Red Hill\, Queensland\, 4059\, Australia
CATEGORIES:Christmas decorations
END:VEVENT
BEGIN:VEVENT
DTSTART;TZID=Australia/Brisbane:20260720T170000
DTEND;TZID=Australia/Brisbane:20260720T200000
DTSTAMP:20260424T084154
CREATED:20260308T011821Z
LAST-MODIFIED:20260314T084254Z
UID:21401-1784566800-1784577600@creativeglassguild.com.au
SUMMARY:Making Christmas Decorations for Showcase Workshop\, 20 July to 3 August (Members Only)
DESCRIPTION:[vc_row][vc_column][vc_column_text css=””]Organiser: Chris Bell \nA call-out to members to help with making the popular Christmas Decorations which the Guild sells at the Showcase every year.  The 2026 Showcase will be held on Saturday 14 and Sunday 15 November at the Mt Coot-tha Botanic Gardens. The aim is to have more decorations than ever before – they sell like hotcakes! \nBring your own tools. Glass and other materials supplied. \nLimited spaces in 4-week blocks: Bookings essential \nPrerequisite: Glass cutting skills necessary \nCost: Free \nonsectetur adipiscing elit. Ut elit tellus\, luctus nec ullamcorper mattis\, pulvinar dapibus leo.[/vc_column_text][/vc_column][/vc_row]
URL:https://creativeglassguild.com.au/event/christmas-decorations-showcase-4/2026-07-20/
LOCATION:Creative Glass Guild of Queensland\, Downstairs\, 64 Fulcher Road\, Red Hill\, Queensland\, 4059\, Australia
CATEGORIES:Christmas decorations
END:VEVENT
BEGIN:VEVENT
DTSTART;TZID=Australia/Brisbane:20260810T170000
DTEND;TZID=Australia/Brisbane:20260810T200000
DTSTAMP:20260424T084154
CREATED:20260308T012557Z
LAST-MODIFIED:20260314T084236Z
UID:21407-1786381200-1786392000@creativeglassguild.com.au
SUMMARY:Making Christmas Decorations for Showcase Workshop\, 10 August to 7 September (Members Only)
DESCRIPTION:Organiser: Chris Bell \nA call-out to members to help with making the popular Christmas Decorations which the Guild sells at the Showcase every year.  The 2026 Showcase will be held on Saturday 14 and Sunday 15 November at the Mt Coot-tha Botanic Gardens. The aim is to have more decorations than ever before – they sell like hotcakes! \nBring your own tools. Glass and other materials supplied. \nLimited spaces in 4-week blocks: Bookings essential \nPrerequisite: Glass cutting skills necessary \nCost: Free
URL:https://creativeglassguild.com.au/event/christmas-decorations-showcase-5/2026-08-10/
LOCATION:Creative Glass Guild of Queensland\, Downstairs\, 64 Fulcher Road\, Red Hill\, Queensland\, 4059\, Australia
CATEGORIES:Christmas decorations
END:VEVENT
BEGIN:VEVENT
DTSTART;TZID=Australia/Brisbane:20260914T170000
DTEND;TZID=Australia/Brisbane:20260914T200000
DTSTAMP:20260424T084154
CREATED:20260308T013323Z
LAST-MODIFIED:20260314T084216Z
UID:21415-1789405200-1789416000@creativeglassguild.com.au
SUMMARY:Making Christmas Decorations for Showcase Workshop\, 14 September to 5 October (Members Only)
DESCRIPTION:[vc_row][vc_column][vc_column_text css=””]Organiser: Chris Bell \nA call-out to members to help with making the popular Christmas Decorations which the Guild sells at the Showcase every year.  The 2026 Showcase will be held on Saturday 14 and Sunday 15 November at the Mt Coot-tha Botanic Gardens. The aim is to have more decorations than ever before – they sell like hotcakes! \nBring your own tools. Glass and other materials supplied. \nLimited spaces in 4-week blocks: Bookings essential \nPrerequisite: Glass cutting skills necessary \nCost: Free[/vc_column_text][/vc_column][/vc_row]
URL:https://creativeglassguild.com.au/event/christmas-decorations-showcase-6/2026-09-14/
LOCATION:Creative Glass Guild of Queensland\, Downstairs\, 64 Fulcher Road\, Red Hill\, Queensland\, 4059\, Australia
CATEGORIES:Christmas decorations
END:VEVENT
END:VCALENDAR