BEGIN:VCALENDAR
VERSION:2.0
PRODID:-//Creative Glass Guild of Queensland - ECPv6.15.20//NONSGML v1.0//EN
CALSCALE:GREGORIAN
METHOD:PUBLISH
X-WR-CALNAME:Creative Glass Guild of Queensland
X-ORIGINAL-URL:https://creativeglassguild.com.au
X-WR-CALDESC:Events for Creative Glass Guild of Queensland
REFRESH-INTERVAL;VALUE=DURATION:PT1H
X-Robots-Tag:noindex
X-PUBLISHED-TTL:PT1H
BEGIN:VTIMEZONE
TZID:Australia/Brisbane
BEGIN:STANDARD
TZOFFSETFROM:+1000
TZOFFSETTO:+1000
TZNAME:AEST
DTSTART:20250101T000000
END:STANDARD
END:VTIMEZONE
BEGIN:VEVENT
DTSTART;TZID=Australia/Brisbane:20260601T170000
DTEND;TZID=Australia/Brisbane:20260601T200000
DTSTAMP:20260424T065216
CREATED:20260308T004001Z
LAST-MODIFIED:20260314T084342Z
UID:21477-1780333200-1780344000@creativeglassguild.com.au
SUMMARY:Making Christmas Decorations for Showcase Workshop\, 25 May to 15 June (Members Only)
DESCRIPTION:[vc_row][vc_column][vc_column_text css=””]Organiser: Chris Bell \nA call-out to members to help with making the popular Christmas Decorations which the Guild sells at the Showcase every year.  The 2026 Showcase will be held on Saturday 14 and Sunday 15 November at the Mt Coot-tha Botanic Gardens. The aim is to have more decorations than ever before – they sell like hotcakes! \nBring your own tools. Glass and other materials supplied. \nLimited spaces in 4-week blocks: Bookings essential \nPrerequisite: Glass cutting skills necessary \nCost: Free[/vc_column_text][/vc_column][/vc_row]
URL:https://creativeglassguild.com.au/event/christmas-decorations-showcase-3/2026-06-01/
LOCATION:Creative Glass Guild of Queensland\, Downstairs\, 64 Fulcher Road\, Red Hill\, Queensland\, 4059\, Australia
CATEGORIES:Christmas decorations
END:VEVENT
BEGIN:VEVENT
DTSTART;TZID=Australia/Brisbane:20260608T170000
DTEND;TZID=Australia/Brisbane:20260608T200000
DTSTAMP:20260424T065216
CREATED:20260308T004001Z
LAST-MODIFIED:20260314T084343Z
UID:21478-1780938000-1780948800@creativeglassguild.com.au
SUMMARY:Making Christmas Decorations for Showcase Workshop\, 25 May to 15 June (Members Only)
DESCRIPTION:[vc_row][vc_column][vc_column_text css=””]Organiser: Chris Bell \nA call-out to members to help with making the popular Christmas Decorations which the Guild sells at the Showcase every year.  The 2026 Showcase will be held on Saturday 14 and Sunday 15 November at the Mt Coot-tha Botanic Gardens. The aim is to have more decorations than ever before – they sell like hotcakes! \nBring your own tools. Glass and other materials supplied. \nLimited spaces in 4-week blocks: Bookings essential \nPrerequisite: Glass cutting skills necessary \nCost: Free[/vc_column_text][/vc_column][/vc_row]
URL:https://creativeglassguild.com.au/event/christmas-decorations-showcase-3/2026-06-08/
LOCATION:Creative Glass Guild of Queensland\, Downstairs\, 64 Fulcher Road\, Red Hill\, Queensland\, 4059\, Australia
CATEGORIES:Christmas decorations
END:VEVENT
BEGIN:VEVENT
DTSTART;TZID=Australia/Brisbane:20260615T170000
DTEND;TZID=Australia/Brisbane:20260615T200000
DTSTAMP:20260424T065216
CREATED:20260308T004001Z
LAST-MODIFIED:20260314T084343Z
UID:21479-1781542800-1781553600@creativeglassguild.com.au
SUMMARY:Making Christmas Decorations for Showcase Workshop\, 25 May to 15 June (Members Only)
DESCRIPTION:[vc_row][vc_column][vc_column_text css=””]Organiser: Chris Bell \nA call-out to members to help with making the popular Christmas Decorations which the Guild sells at the Showcase every year.  The 2026 Showcase will be held on Saturday 14 and Sunday 15 November at the Mt Coot-tha Botanic Gardens. The aim is to have more decorations than ever before – they sell like hotcakes! \nBring your own tools. Glass and other materials supplied. \nLimited spaces in 4-week blocks: Bookings essential \nPrerequisite: Glass cutting skills necessary \nCost: Free[/vc_column_text][/vc_column][/vc_row]
URL:https://creativeglassguild.com.au/event/christmas-decorations-showcase-3/2026-06-15/
LOCATION:Creative Glass Guild of Queensland\, Downstairs\, 64 Fulcher Road\, Red Hill\, Queensland\, 4059\, Australia
CATEGORIES:Christmas decorations
END:VEVENT
BEGIN:VEVENT
DTSTART;TZID=Australia/Brisbane:20260622T170000
DTEND;TZID=Australia/Brisbane:20260622T200000
DTSTAMP:20260424T065216
CREATED:20260308T005627Z
LAST-MODIFIED:20260314T084320Z
UID:21378-1782147600-1782158400@creativeglassguild.com.au
SUMMARY:Making Christmas Decorations for Showcase Workshop\, 22 June to 13 July (Members Only)
DESCRIPTION:[vc_row][vc_column][vc_column_text css=””]Organiser: Chris Bell \nA call-out to members to help with making the popular Christmas Decorations which the Guild sells at the Showcase every year.  The 2026 Showcase will be held on Saturday 14 and Sunday 15 November at the Mt Coot-tha Botanic Gardens. The aim is to have more decorations than ever before – they sell like hotcakes! \nBring your own tools. Glass and other materials supplied. \nLimited spaces in 4-week blocks: Bookings essential \nPrerequisite: Glass cutting skills necessary \nCost: Free[/vc_column_text][/vc_column][/vc_row]
URL:https://creativeglassguild.com.au/event/christmas-decoration-showcase/2026-06-22/
LOCATION:Creative Glass Guild of Queensland\, Downstairs\, 64 Fulcher Road\, Red Hill\, Queensland\, 4059\, Australia
CATEGORIES:Christmas decorations
END:VEVENT
BEGIN:VEVENT
DTSTART;TZID=Australia/Brisbane:20260629T170000
DTEND;TZID=Australia/Brisbane:20260629T200000
DTSTAMP:20260424T065216
CREATED:20260308T005627Z
LAST-MODIFIED:20260314T084321Z
UID:21464-1782752400-1782763200@creativeglassguild.com.au
SUMMARY:Making Christmas Decorations for Showcase Workshop\, 22 June to 13 July (Members Only)
DESCRIPTION:[vc_row][vc_column][vc_column_text css=””]Organiser: Chris Bell \nA call-out to members to help with making the popular Christmas Decorations which the Guild sells at the Showcase every year.  The 2026 Showcase will be held on Saturday 14 and Sunday 15 November at the Mt Coot-tha Botanic Gardens. The aim is to have more decorations than ever before – they sell like hotcakes! \nBring your own tools. Glass and other materials supplied. \nLimited spaces in 4-week blocks: Bookings essential \nPrerequisite: Glass cutting skills necessary \nCost: Free[/vc_column_text][/vc_column][/vc_row]
URL:https://creativeglassguild.com.au/event/christmas-decoration-showcase/2026-06-29/
LOCATION:Creative Glass Guild of Queensland\, Downstairs\, 64 Fulcher Road\, Red Hill\, Queensland\, 4059\, Australia
CATEGORIES:Christmas decorations
END:VEVENT
END:VCALENDAR