BEGIN:VCALENDAR
VERSION:2.0
PRODID:-//Creative Glass Guild of Queensland - ECPv6.15.20//NONSGML v1.0//EN
CALSCALE:GREGORIAN
METHOD:PUBLISH
X-WR-CALNAME:Creative Glass Guild of Queensland
X-ORIGINAL-URL:https://creativeglassguild.com.au
X-WR-CALDESC:Events for Creative Glass Guild of Queensland
REFRESH-INTERVAL;VALUE=DURATION:PT1H
X-Robots-Tag:noindex
X-PUBLISHED-TTL:PT1H
BEGIN:VTIMEZONE
TZID:Australia/Brisbane
BEGIN:STANDARD
TZOFFSETFROM:+1000
TZOFFSETTO:+1000
TZNAME:AEST
DTSTART:20250101T000000
END:STANDARD
END:VTIMEZONE
BEGIN:VEVENT
DTSTART;TZID=Australia/Brisbane:20260613T093000
DTEND;TZID=Australia/Brisbane:20260613T120000
DTSTAMP:20260424T085932
CREATED:20260205T231352Z
LAST-MODIFIED:20260205T231352Z
UID:20939-1781343000-1781352000@creativeglassguild.com.au
SUMMARY:Beadmaker Buddy-Up - Picture beads\, 13 June\, 9:30am to 12:00pm
DESCRIPTION:
URL:https://creativeglassguild.com.au/event/beadmaker-buddy-up-picture-beads/
LOCATION:Creative Glass Guild of Queensland\, Upstairs\, 64 Fulcher Road\, Red Hill\, Queensland\, 4059\, Australia
CATEGORIES:glass bead making buddy up
END:VEVENT
END:VCALENDAR