BEGIN:VCALENDAR
VERSION:2.0
PRODID:-//Creative Glass Guild of Queensland - ECPv6.15.20//NONSGML v1.0//EN
CALSCALE:GREGORIAN
METHOD:PUBLISH
X-ORIGINAL-URL:https://creativeglassguild.com.au
X-WR-CALDESC:Events for Creative Glass Guild of Queensland
REFRESH-INTERVAL;VALUE=DURATION:PT1H
X-Robots-Tag:noindex
X-PUBLISHED-TTL:PT1H
BEGIN:VTIMEZONE
TZID:Australia/Brisbane
BEGIN:STANDARD
TZOFFSETFROM:+1000
TZOFFSETTO:+1000
TZNAME:AEST
DTSTART:20250101T000000
END:STANDARD
END:VTIMEZONE
BEGIN:VEVENT
DTSTART;TZID=Australia/Brisbane:20260312T093000
DTEND;TZID=Australia/Brisbane:20260312T123000
DTSTAMP:20260424T070737
CREATED:20251205T100917Z
LAST-MODIFIED:20260311T031301Z
UID:20621-1773307800-1773318600@creativeglassguild.com.au
SUMMARY:Members' Mosaic Madness
DESCRIPTION:A get-together for “mosaicing” members to share their glass mosaic experiences – their successes and challenges. \nThis group is the space to share tips and information with others who mosaic.  While we help others who are less experienced\, it does not replace our Wednesday evening Intermediate Mosaics course where tutors are available to support your projects. \nBring your mosaic projects to work on and join in the fun.  While focus is on creativity\, camaraderie and laughter\, sharing the workload of opening / closing\, cleaning up and providing shop facilities is desirable. \nBooking is not required but do check our website calendar to see if a Thursday session is not being held.
URL:https://creativeglassguild.com.au/event/members-mosaic-madness/2026-03-12/
LOCATION:Creative Glass Guild of Queensland\, Downstairs\, 64 Fulcher Road\, Red Hill\, Queensland\, 4059\, Australia
CATEGORIES:Members Day
END:VEVENT
END:VCALENDAR