BEGIN:VCALENDAR
VERSION:2.0
PRODID:-//Creative Glass Guild of Queensland - ECPv6.15.20//NONSGML v1.0//EN
CALSCALE:GREGORIAN
METHOD:PUBLISH
X-ORIGINAL-URL:https://creativeglassguild.com.au
X-WR-CALDESC:Events for Creative Glass Guild of Queensland
REFRESH-INTERVAL;VALUE=DURATION:PT1H
X-Robots-Tag:noindex
X-PUBLISHED-TTL:PT1H
BEGIN:VTIMEZONE
TZID:Australia/Brisbane
BEGIN:STANDARD
TZOFFSETFROM:+1000
TZOFFSETTO:+1000
TZNAME:AEST
DTSTART:20250101T000000
END:STANDARD
END:VTIMEZONE
BEGIN:VEVENT
DTSTART;TZID=Australia/Brisbane:20260713T170000
DTEND;TZID=Australia/Brisbane:20260713T200000
DTSTAMP:20260424T053406
CREATED:20260308T033004Z
LAST-MODIFIED:20260308T033004Z
UID:21516-1783962000-1783972800@creativeglassguild.com.au
SUMMARY:Mosaic Ball Garden Project\, 13 July to 27 July (Members Only)
DESCRIPTION:[vc_row][vc_column][vc_column_text css=””]Organiser: Lyndall Davies \n\n\n\n\n\n\n\n\n\nMembers\, seeking help to make mosaic pieces to adhere to an 85cm diameter Pal Tiya ball which will stand in the front garden at the Guild. This “sculpture” will demonstrate further our creativity with glass and what we offer at the Guild.  \n144 pieces in all are needed to cover the ball and it will stand on a stainless-steel pole in the corner of the garden bordering the path to the front stairs. Looking forward to your joining in.  \nWhat to bring: Your own tools. Glass\, adhesive and other materials supplied. \nLimited spaces in 3-week blocks: Bookings essential. \nPrerequisite: Basic glass scoring and cutting skills. \nCost: Free[/vc_column_text][/vc_column][/vc_row]
URL:https://creativeglassguild.com.au/event/mosaic-ball-garden-project-5/2026-07-13/
LOCATION:Creative Glass Guild of Queensland\, Downstairs\, 64 Fulcher Road\, Red Hill\, Queensland\, 4059\, Australia
CATEGORIES:Mosaics,Mosaics - Workshop
END:VEVENT
BEGIN:VEVENT
DTSTART;TZID=Australia/Brisbane:20260720T170000
DTEND;TZID=Australia/Brisbane:20260720T200000
DTSTAMP:20260424T053406
CREATED:20260308T033004Z
LAST-MODIFIED:20260308T033004Z
UID:21518-1784566800-1784577600@creativeglassguild.com.au
SUMMARY:Mosaic Ball Garden Project\, 13 July to 27 July (Members Only)
DESCRIPTION:[vc_row][vc_column][vc_column_text css=””]Organiser: Lyndall Davies \n\n\n\n\n\n\n\n\n\nMembers\, seeking help to make mosaic pieces to adhere to an 85cm diameter Pal Tiya ball which will stand in the front garden at the Guild. This “sculpture” will demonstrate further our creativity with glass and what we offer at the Guild.  \n144 pieces in all are needed to cover the ball and it will stand on a stainless-steel pole in the corner of the garden bordering the path to the front stairs. Looking forward to your joining in.  \nWhat to bring: Your own tools. Glass\, adhesive and other materials supplied. \nLimited spaces in 3-week blocks: Bookings essential. \nPrerequisite: Basic glass scoring and cutting skills. \nCost: Free[/vc_column_text][/vc_column][/vc_row]
URL:https://creativeglassguild.com.au/event/mosaic-ball-garden-project-5/2026-07-20/
LOCATION:Creative Glass Guild of Queensland\, Downstairs\, 64 Fulcher Road\, Red Hill\, Queensland\, 4059\, Australia
CATEGORIES:Mosaics,Mosaics - Workshop
END:VEVENT
BEGIN:VEVENT
DTSTART;TZID=Australia/Brisbane:20260727T170000
DTEND;TZID=Australia/Brisbane:20260727T200000
DTSTAMP:20260424T053406
CREATED:20260308T033004Z
LAST-MODIFIED:20260308T033004Z
UID:21519-1785171600-1785182400@creativeglassguild.com.au
SUMMARY:Mosaic Ball Garden Project\, 13 July to 27 July (Members Only)
DESCRIPTION:[vc_row][vc_column][vc_column_text css=””]Organiser: Lyndall Davies \n\n\n\n\n\n\n\n\n\nMembers\, seeking help to make mosaic pieces to adhere to an 85cm diameter Pal Tiya ball which will stand in the front garden at the Guild. This “sculpture” will demonstrate further our creativity with glass and what we offer at the Guild.  \n144 pieces in all are needed to cover the ball and it will stand on a stainless-steel pole in the corner of the garden bordering the path to the front stairs. Looking forward to your joining in.  \nWhat to bring: Your own tools. Glass\, adhesive and other materials supplied. \nLimited spaces in 3-week blocks: Bookings essential. \nPrerequisite: Basic glass scoring and cutting skills. \nCost: Free[/vc_column_text][/vc_column][/vc_row]
URL:https://creativeglassguild.com.au/event/mosaic-ball-garden-project-5/2026-07-27/
LOCATION:Creative Glass Guild of Queensland\, Downstairs\, 64 Fulcher Road\, Red Hill\, Queensland\, 4059\, Australia
CATEGORIES:Mosaics,Mosaics - Workshop
END:VEVENT
END:VCALENDAR