BEGIN:VCALENDAR
VERSION:2.0
PRODID:-//Creative Glass Guild of Queensland - ECPv6.15.20//NONSGML v1.0//EN
CALSCALE:GREGORIAN
METHOD:PUBLISH
X-WR-CALNAME:Creative Glass Guild of Queensland
X-ORIGINAL-URL:https://creativeglassguild.com.au
X-WR-CALDESC:Events for Creative Glass Guild of Queensland
REFRESH-INTERVAL;VALUE=DURATION:PT1H
X-Robots-Tag:noindex
X-PUBLISHED-TTL:PT1H
BEGIN:VTIMEZONE
TZID:Australia/Brisbane
BEGIN:STANDARD
TZOFFSETFROM:+1000
TZOFFSETTO:+1000
TZNAME:AEST
DTSTART:20250101T000000
END:STANDARD
END:VTIMEZONE
BEGIN:VEVENT
DTSTART;TZID=Australia/Brisbane:20260429T093000
DTEND;TZID=Australia/Brisbane:20260429T140000
DTSTAMP:20260424T034039
CREATED:20251205T100839Z
LAST-MODIFIED:20260326T072604Z
UID:21280-1777455000-1777471200@creativeglassguild.com.au
SUMMARY:Members' Project Time - Wednesday
DESCRIPTION:Creative Glass Guild members are able to use Guild workshop facilities during members’ project open times. You may hire use of kilns\, sandblaster\, bead making studio and use tools to work on your own projects without having to enrol in a course where tutors are available. Note though that the Guild may close at times for courses\, workshops\, maintenance or emergent priorities. Members will be notified by email of any changes. \nGuild facilities during Members’ Project Times are for the use of all members and certain obligations are expected. \nThe Guild’s Administrative Policy further details the expectations of members and students\, so that all can operate in a safe\, effective and inclusive environment. Please take the time to read this important information.
URL:https://creativeglassguild.com.au/event/members-project-time-wednesday/2026-04-29/
LOCATION:Creative Glass Guild of Queensland\, Downstairs\, 64 Fulcher Road\, Red Hill\, Queensland\, 4059\, Australia
CATEGORIES:Members Day
END:VEVENT
BEGIN:VEVENT
DTSTART;TZID=Australia/Brisbane:20260506T093000
DTEND;TZID=Australia/Brisbane:20260506T140000
DTSTAMP:20260424T034039
CREATED:20251205T100839Z
LAST-MODIFIED:20260326T072604Z
UID:21281-1778059800-1778076000@creativeglassguild.com.au
SUMMARY:Members' Project Time - Wednesday
DESCRIPTION:Creative Glass Guild members are able to use Guild workshop facilities during members’ project open times. You may hire use of kilns\, sandblaster\, bead making studio and use tools to work on your own projects without having to enrol in a course where tutors are available. Note though that the Guild may close at times for courses\, workshops\, maintenance or emergent priorities. Members will be notified by email of any changes. \nGuild facilities during Members’ Project Times are for the use of all members and certain obligations are expected. \nThe Guild’s Administrative Policy further details the expectations of members and students\, so that all can operate in a safe\, effective and inclusive environment. Please take the time to read this important information.
URL:https://creativeglassguild.com.au/event/members-project-time-wednesday/2026-05-06/
LOCATION:Creative Glass Guild of Queensland\, Downstairs\, 64 Fulcher Road\, Red Hill\, Queensland\, 4059\, Australia
CATEGORIES:Members Day
END:VEVENT
BEGIN:VEVENT
DTSTART;TZID=Australia/Brisbane:20260513T093000
DTEND;TZID=Australia/Brisbane:20260513T140000
DTSTAMP:20260424T034039
CREATED:20251205T100839Z
LAST-MODIFIED:20260326T072604Z
UID:21282-1778664600-1778680800@creativeglassguild.com.au
SUMMARY:Members' Project Time - Wednesday
DESCRIPTION:Creative Glass Guild members are able to use Guild workshop facilities during members’ project open times. You may hire use of kilns\, sandblaster\, bead making studio and use tools to work on your own projects without having to enrol in a course where tutors are available. Note though that the Guild may close at times for courses\, workshops\, maintenance or emergent priorities. Members will be notified by email of any changes. \nGuild facilities during Members’ Project Times are for the use of all members and certain obligations are expected. \nThe Guild’s Administrative Policy further details the expectations of members and students\, so that all can operate in a safe\, effective and inclusive environment. Please take the time to read this important information.
URL:https://creativeglassguild.com.au/event/members-project-time-wednesday/2026-05-13/
LOCATION:Creative Glass Guild of Queensland\, Downstairs\, 64 Fulcher Road\, Red Hill\, Queensland\, 4059\, Australia
CATEGORIES:Members Day
END:VEVENT
BEGIN:VEVENT
DTSTART;TZID=Australia/Brisbane:20260520T093000
DTEND;TZID=Australia/Brisbane:20260520T140000
DTSTAMP:20260424T034039
CREATED:20251205T100839Z
LAST-MODIFIED:20260326T072604Z
UID:21283-1779269400-1779285600@creativeglassguild.com.au
SUMMARY:Members' Project Time - Wednesday
DESCRIPTION:Creative Glass Guild members are able to use Guild workshop facilities during members’ project open times. You may hire use of kilns\, sandblaster\, bead making studio and use tools to work on your own projects without having to enrol in a course where tutors are available. Note though that the Guild may close at times for courses\, workshops\, maintenance or emergent priorities. Members will be notified by email of any changes. \nGuild facilities during Members’ Project Times are for the use of all members and certain obligations are expected. \nThe Guild’s Administrative Policy further details the expectations of members and students\, so that all can operate in a safe\, effective and inclusive environment. Please take the time to read this important information.
URL:https://creativeglassguild.com.au/event/members-project-time-wednesday/2026-05-20/
LOCATION:Creative Glass Guild of Queensland\, Downstairs\, 64 Fulcher Road\, Red Hill\, Queensland\, 4059\, Australia
CATEGORIES:Members Day
END:VEVENT
BEGIN:VEVENT
DTSTART;TZID=Australia/Brisbane:20260527T093000
DTEND;TZID=Australia/Brisbane:20260527T140000
DTSTAMP:20260424T034039
CREATED:20251205T100839Z
LAST-MODIFIED:20260326T072604Z
UID:21284-1779874200-1779890400@creativeglassguild.com.au
SUMMARY:Members' Project Time - Wednesday
DESCRIPTION:Creative Glass Guild members are able to use Guild workshop facilities during members’ project open times. You may hire use of kilns\, sandblaster\, bead making studio and use tools to work on your own projects without having to enrol in a course where tutors are available. Note though that the Guild may close at times for courses\, workshops\, maintenance or emergent priorities. Members will be notified by email of any changes. \nGuild facilities during Members’ Project Times are for the use of all members and certain obligations are expected. \nThe Guild’s Administrative Policy further details the expectations of members and students\, so that all can operate in a safe\, effective and inclusive environment. Please take the time to read this important information.
URL:https://creativeglassguild.com.au/event/members-project-time-wednesday/2026-05-27/
LOCATION:Creative Glass Guild of Queensland\, Downstairs\, 64 Fulcher Road\, Red Hill\, Queensland\, 4059\, Australia
CATEGORIES:Members Day
END:VEVENT
BEGIN:VEVENT
DTSTART;TZID=Australia/Brisbane:20260603T093000
DTEND;TZID=Australia/Brisbane:20260603T140000
DTSTAMP:20260424T034039
CREATED:20251205T100839Z
LAST-MODIFIED:20260326T072604Z
UID:21285-1780479000-1780495200@creativeglassguild.com.au
SUMMARY:Members' Project Time - Wednesday
DESCRIPTION:Creative Glass Guild members are able to use Guild workshop facilities during members’ project open times. You may hire use of kilns\, sandblaster\, bead making studio and use tools to work on your own projects without having to enrol in a course where tutors are available. Note though that the Guild may close at times for courses\, workshops\, maintenance or emergent priorities. Members will be notified by email of any changes. \nGuild facilities during Members’ Project Times are for the use of all members and certain obligations are expected. \nThe Guild’s Administrative Policy further details the expectations of members and students\, so that all can operate in a safe\, effective and inclusive environment. Please take the time to read this important information.
URL:https://creativeglassguild.com.au/event/members-project-time-wednesday/2026-06-03/
LOCATION:Creative Glass Guild of Queensland\, Downstairs\, 64 Fulcher Road\, Red Hill\, Queensland\, 4059\, Australia
CATEGORIES:Members Day
END:VEVENT
BEGIN:VEVENT
DTSTART;TZID=Australia/Brisbane:20260610T093000
DTEND;TZID=Australia/Brisbane:20260610T140000
DTSTAMP:20260424T034039
CREATED:20251205T100839Z
LAST-MODIFIED:20260326T072605Z
UID:21286-1781083800-1781100000@creativeglassguild.com.au
SUMMARY:Members' Project Time - Wednesday
DESCRIPTION:Creative Glass Guild members are able to use Guild workshop facilities during members’ project open times. You may hire use of kilns\, sandblaster\, bead making studio and use tools to work on your own projects without having to enrol in a course where tutors are available. Note though that the Guild may close at times for courses\, workshops\, maintenance or emergent priorities. Members will be notified by email of any changes. \nGuild facilities during Members’ Project Times are for the use of all members and certain obligations are expected. \nThe Guild’s Administrative Policy further details the expectations of members and students\, so that all can operate in a safe\, effective and inclusive environment. Please take the time to read this important information.
URL:https://creativeglassguild.com.au/event/members-project-time-wednesday/2026-06-10/
LOCATION:Creative Glass Guild of Queensland\, Downstairs\, 64 Fulcher Road\, Red Hill\, Queensland\, 4059\, Australia
CATEGORIES:Members Day
END:VEVENT
BEGIN:VEVENT
DTSTART;TZID=Australia/Brisbane:20260617T093000
DTEND;TZID=Australia/Brisbane:20260617T140000
DTSTAMP:20260424T034039
CREATED:20251205T100839Z
LAST-MODIFIED:20260326T072605Z
UID:21287-1781688600-1781704800@creativeglassguild.com.au
SUMMARY:Members' Project Time - Wednesday
DESCRIPTION:Creative Glass Guild members are able to use Guild workshop facilities during members’ project open times. You may hire use of kilns\, sandblaster\, bead making studio and use tools to work on your own projects without having to enrol in a course where tutors are available. Note though that the Guild may close at times for courses\, workshops\, maintenance or emergent priorities. Members will be notified by email of any changes. \nGuild facilities during Members’ Project Times are for the use of all members and certain obligations are expected. \nThe Guild’s Administrative Policy further details the expectations of members and students\, so that all can operate in a safe\, effective and inclusive environment. Please take the time to read this important information.
URL:https://creativeglassguild.com.au/event/members-project-time-wednesday/2026-06-17/
LOCATION:Creative Glass Guild of Queensland\, Downstairs\, 64 Fulcher Road\, Red Hill\, Queensland\, 4059\, Australia
CATEGORIES:Members Day
END:VEVENT
BEGIN:VEVENT
DTSTART;TZID=Australia/Brisbane:20260624T093000
DTEND;TZID=Australia/Brisbane:20260624T140000
DTSTAMP:20260424T034039
CREATED:20251205T100839Z
LAST-MODIFIED:20260326T072605Z
UID:21288-1782293400-1782309600@creativeglassguild.com.au
SUMMARY:Members' Project Time - Wednesday
DESCRIPTION:Creative Glass Guild members are able to use Guild workshop facilities during members’ project open times. You may hire use of kilns\, sandblaster\, bead making studio and use tools to work on your own projects without having to enrol in a course where tutors are available. Note though that the Guild may close at times for courses\, workshops\, maintenance or emergent priorities. Members will be notified by email of any changes. \nGuild facilities during Members’ Project Times are for the use of all members and certain obligations are expected. \nThe Guild’s Administrative Policy further details the expectations of members and students\, so that all can operate in a safe\, effective and inclusive environment. Please take the time to read this important information.
URL:https://creativeglassguild.com.au/event/members-project-time-wednesday/2026-06-24/
LOCATION:Creative Glass Guild of Queensland\, Downstairs\, 64 Fulcher Road\, Red Hill\, Queensland\, 4059\, Australia
CATEGORIES:Members Day
END:VEVENT
BEGIN:VEVENT
DTSTART;TZID=Australia/Brisbane:20260701T093000
DTEND;TZID=Australia/Brisbane:20260701T140000
DTSTAMP:20260424T034039
CREATED:20251205T100839Z
LAST-MODIFIED:20260326T072607Z
UID:21289-1782898200-1782914400@creativeglassguild.com.au
SUMMARY:Members' Project Time - Wednesday
DESCRIPTION:Creative Glass Guild members are able to use Guild workshop facilities during members’ project open times. You may hire use of kilns\, sandblaster\, bead making studio and use tools to work on your own projects without having to enrol in a course where tutors are available. Note though that the Guild may close at times for courses\, workshops\, maintenance or emergent priorities. Members will be notified by email of any changes. \nGuild facilities during Members’ Project Times are for the use of all members and certain obligations are expected. \nThe Guild’s Administrative Policy further details the expectations of members and students\, so that all can operate in a safe\, effective and inclusive environment. Please take the time to read this important information.
URL:https://creativeglassguild.com.au/event/members-project-time-wednesday/2026-07-01/
LOCATION:Creative Glass Guild of Queensland\, Downstairs\, 64 Fulcher Road\, Red Hill\, Queensland\, 4059\, Australia
CATEGORIES:Members Day
END:VEVENT
BEGIN:VEVENT
DTSTART;TZID=Australia/Brisbane:20260708T093000
DTEND;TZID=Australia/Brisbane:20260708T140000
DTSTAMP:20260424T034039
CREATED:20251205T100839Z
LAST-MODIFIED:20251205T100839Z
UID:21740-1783503000-1783519200@creativeglassguild.com.au
SUMMARY:Members' Project Time - Wednesday
DESCRIPTION:Creative Glass Guild members are able to use Guild workshop facilities during members’ project open times. You may hire use of kilns\, sandblaster\, bead making studio and use tools to work on your own projects without having to enrol in a course where tutors are available. Note though that the Guild may close at times for courses\, workshops\, maintenance or emergent priorities. Members will be notified by email of any changes. \nGuild facilities during Members’ Project Times are for the use of all members and certain obligations are expected. \nThe Guild’s Administrative Policy further details the expectations of members and students\, so that all can operate in a safe\, effective and inclusive environment. Please take the time to read this important information.
URL:https://creativeglassguild.com.au/event/members-project-time-wednesday/2026-07-08/
LOCATION:Creative Glass Guild of Queensland\, Downstairs\, 64 Fulcher Road\, Red Hill\, Queensland\, 4059\, Australia
CATEGORIES:Members Day
END:VEVENT
BEGIN:VEVENT
DTSTART;TZID=Australia/Brisbane:20260715T093000
DTEND;TZID=Australia/Brisbane:20260715T140000
DTSTAMP:20260424T034039
CREATED:20251205T100839Z
LAST-MODIFIED:20251205T100839Z
UID:21741-1784107800-1784124000@creativeglassguild.com.au
SUMMARY:Members' Project Time - Wednesday
DESCRIPTION:Creative Glass Guild members are able to use Guild workshop facilities during members’ project open times. You may hire use of kilns\, sandblaster\, bead making studio and use tools to work on your own projects without having to enrol in a course where tutors are available. Note though that the Guild may close at times for courses\, workshops\, maintenance or emergent priorities. Members will be notified by email of any changes. \nGuild facilities during Members’ Project Times are for the use of all members and certain obligations are expected. \nThe Guild’s Administrative Policy further details the expectations of members and students\, so that all can operate in a safe\, effective and inclusive environment. Please take the time to read this important information.
URL:https://creativeglassguild.com.au/event/members-project-time-wednesday/2026-07-15/
LOCATION:Creative Glass Guild of Queensland\, Downstairs\, 64 Fulcher Road\, Red Hill\, Queensland\, 4059\, Australia
CATEGORIES:Members Day
END:VEVENT
BEGIN:VEVENT
DTSTART;TZID=Australia/Brisbane:20260722T093000
DTEND;TZID=Australia/Brisbane:20260722T140000
DTSTAMP:20260424T034039
CREATED:20251205T100839Z
LAST-MODIFIED:20251205T100839Z
UID:21742-1784712600-1784728800@creativeglassguild.com.au
SUMMARY:Members' Project Time - Wednesday
DESCRIPTION:Creative Glass Guild members are able to use Guild workshop facilities during members’ project open times. You may hire use of kilns\, sandblaster\, bead making studio and use tools to work on your own projects without having to enrol in a course where tutors are available. Note though that the Guild may close at times for courses\, workshops\, maintenance or emergent priorities. Members will be notified by email of any changes. \nGuild facilities during Members’ Project Times are for the use of all members and certain obligations are expected. \nThe Guild’s Administrative Policy further details the expectations of members and students\, so that all can operate in a safe\, effective and inclusive environment. Please take the time to read this important information.
URL:https://creativeglassguild.com.au/event/members-project-time-wednesday/2026-07-22/
LOCATION:Creative Glass Guild of Queensland\, Downstairs\, 64 Fulcher Road\, Red Hill\, Queensland\, 4059\, Australia
CATEGORIES:Members Day
END:VEVENT
BEGIN:VEVENT
DTSTART;TZID=Australia/Brisbane:20260729T093000
DTEND;TZID=Australia/Brisbane:20260729T140000
DTSTAMP:20260424T034039
CREATED:20251205T100839Z
LAST-MODIFIED:20251205T100839Z
UID:21743-1785317400-1785333600@creativeglassguild.com.au
SUMMARY:Members' Project Time - Wednesday
DESCRIPTION:Creative Glass Guild members are able to use Guild workshop facilities during members’ project open times. You may hire use of kilns\, sandblaster\, bead making studio and use tools to work on your own projects without having to enrol in a course where tutors are available. Note though that the Guild may close at times for courses\, workshops\, maintenance or emergent priorities. Members will be notified by email of any changes. \nGuild facilities during Members’ Project Times are for the use of all members and certain obligations are expected. \nThe Guild’s Administrative Policy further details the expectations of members and students\, so that all can operate in a safe\, effective and inclusive environment. Please take the time to read this important information.
URL:https://creativeglassguild.com.au/event/members-project-time-wednesday/2026-07-29/
LOCATION:Creative Glass Guild of Queensland\, Downstairs\, 64 Fulcher Road\, Red Hill\, Queensland\, 4059\, Australia
CATEGORIES:Members Day
END:VEVENT
END:VCALENDAR