BEGIN:VCALENDAR
VERSION:2.0
PRODID:-//Creative Glass Guild of Queensland - ECPv6.15.20//NONSGML v1.0//EN
CALSCALE:GREGORIAN
METHOD:PUBLISH
X-ORIGINAL-URL:https://creativeglassguild.com.au
X-WR-CALDESC:Events for Creative Glass Guild of Queensland
REFRESH-INTERVAL;VALUE=DURATION:PT1H
X-Robots-Tag:noindex
X-PUBLISHED-TTL:PT1H
BEGIN:VTIMEZONE
TZID:Australia/Brisbane
BEGIN:STANDARD
TZOFFSETFROM:+1000
TZOFFSETTO:+1000
TZNAME:AEST
DTSTART:20250101T000000
END:STANDARD
END:VTIMEZONE
BEGIN:VEVENT
DTSTART;TZID=Australia/Brisbane:20260427T090000
DTEND;TZID=Australia/Brisbane:20260427T150000
DTSTAMP:20260424T034339
CREATED:20251205T100427Z
LAST-MODIFIED:20260326T072438Z
UID:21236-1777280400-1777302000@creativeglassguild.com.au
SUMMARY:Members' Project Time - Monday Daytime
DESCRIPTION:Creative Glass Guild members are able to use Guild workshop facilities during members’ project open times. You may hire use of kilns\, sandblaster\, bead making studio and use tools to work on your own projects without having to enrol in a course where tutors are available. Note though that the Guild may close at times for courses\, workshops\, maintenance or emergent priorities. Members will be notified by email of any changes. \nGuild facilities during Members’ Project Times are for the use of all members and certain obligations are expected. \nThe Guild’s Administrative Policy further details expectations of members and students\, so that all can operate in a safe\, effective and inclusive environment. Please take the time to read this important information.
URL:https://creativeglassguild.com.au/event/members-project-time-monday-daytime-2/2026-04-27/
LOCATION:Creative Glass Guild of Queensland\, Downstairs\, 64 Fulcher Road\, Red Hill\, Queensland\, 4059\, Australia
CATEGORIES:Members Day
END:VEVENT
BEGIN:VEVENT
DTSTART;TZID=Australia/Brisbane:20260504T090000
DTEND;TZID=Australia/Brisbane:20260504T150000
DTSTAMP:20260424T034339
CREATED:20251205T100427Z
LAST-MODIFIED:20260326T072438Z
UID:21237-1777885200-1777906800@creativeglassguild.com.au
SUMMARY:Members' Project Time - Monday Daytime
DESCRIPTION:Creative Glass Guild members are able to use Guild workshop facilities during members’ project open times. You may hire use of kilns\, sandblaster\, bead making studio and use tools to work on your own projects without having to enrol in a course where tutors are available. Note though that the Guild may close at times for courses\, workshops\, maintenance or emergent priorities. Members will be notified by email of any changes. \nGuild facilities during Members’ Project Times are for the use of all members and certain obligations are expected. \nThe Guild’s Administrative Policy further details expectations of members and students\, so that all can operate in a safe\, effective and inclusive environment. Please take the time to read this important information.
URL:https://creativeglassguild.com.au/event/members-project-time-monday-daytime-2/2026-05-04/
LOCATION:Creative Glass Guild of Queensland\, Downstairs\, 64 Fulcher Road\, Red Hill\, Queensland\, 4059\, Australia
CATEGORIES:Members Day
END:VEVENT
BEGIN:VEVENT
DTSTART;TZID=Australia/Brisbane:20260511T090000
DTEND;TZID=Australia/Brisbane:20260511T150000
DTSTAMP:20260424T034339
CREATED:20251205T100427Z
LAST-MODIFIED:20260326T072439Z
UID:21238-1778490000-1778511600@creativeglassguild.com.au
SUMMARY:Members' Project Time - Monday Daytime
DESCRIPTION:Creative Glass Guild members are able to use Guild workshop facilities during members’ project open times. You may hire use of kilns\, sandblaster\, bead making studio and use tools to work on your own projects without having to enrol in a course where tutors are available. Note though that the Guild may close at times for courses\, workshops\, maintenance or emergent priorities. Members will be notified by email of any changes. \nGuild facilities during Members’ Project Times are for the use of all members and certain obligations are expected. \nThe Guild’s Administrative Policy further details expectations of members and students\, so that all can operate in a safe\, effective and inclusive environment. Please take the time to read this important information.
URL:https://creativeglassguild.com.au/event/members-project-time-monday-daytime-2/2026-05-11/
LOCATION:Creative Glass Guild of Queensland\, Downstairs\, 64 Fulcher Road\, Red Hill\, Queensland\, 4059\, Australia
CATEGORIES:Members Day
END:VEVENT
BEGIN:VEVENT
DTSTART;TZID=Australia/Brisbane:20260518T090000
DTEND;TZID=Australia/Brisbane:20260518T150000
DTSTAMP:20260424T034339
CREATED:20251205T100427Z
LAST-MODIFIED:20260326T072439Z
UID:21239-1779094800-1779116400@creativeglassguild.com.au
SUMMARY:Members' Project Time - Monday Daytime
DESCRIPTION:Creative Glass Guild members are able to use Guild workshop facilities during members’ project open times. You may hire use of kilns\, sandblaster\, bead making studio and use tools to work on your own projects without having to enrol in a course where tutors are available. Note though that the Guild may close at times for courses\, workshops\, maintenance or emergent priorities. Members will be notified by email of any changes. \nGuild facilities during Members’ Project Times are for the use of all members and certain obligations are expected. \nThe Guild’s Administrative Policy further details expectations of members and students\, so that all can operate in a safe\, effective and inclusive environment. Please take the time to read this important information.
URL:https://creativeglassguild.com.au/event/members-project-time-monday-daytime-2/2026-05-18/
LOCATION:Creative Glass Guild of Queensland\, Downstairs\, 64 Fulcher Road\, Red Hill\, Queensland\, 4059\, Australia
CATEGORIES:Members Day
END:VEVENT
BEGIN:VEVENT
DTSTART;TZID=Australia/Brisbane:20260525T090000
DTEND;TZID=Australia/Brisbane:20260525T150000
DTSTAMP:20260424T034339
CREATED:20251205T100427Z
LAST-MODIFIED:20260326T072439Z
UID:21240-1779699600-1779721200@creativeglassguild.com.au
SUMMARY:Members' Project Time - Monday Daytime
DESCRIPTION:Creative Glass Guild members are able to use Guild workshop facilities during members’ project open times. You may hire use of kilns\, sandblaster\, bead making studio and use tools to work on your own projects without having to enrol in a course where tutors are available. Note though that the Guild may close at times for courses\, workshops\, maintenance or emergent priorities. Members will be notified by email of any changes. \nGuild facilities during Members’ Project Times are for the use of all members and certain obligations are expected. \nThe Guild’s Administrative Policy further details expectations of members and students\, so that all can operate in a safe\, effective and inclusive environment. Please take the time to read this important information.
URL:https://creativeglassguild.com.au/event/members-project-time-monday-daytime-2/2026-05-25/
LOCATION:Creative Glass Guild of Queensland\, Downstairs\, 64 Fulcher Road\, Red Hill\, Queensland\, 4059\, Australia
CATEGORIES:Members Day
END:VEVENT
BEGIN:VEVENT
DTSTART;TZID=Australia/Brisbane:20260601T090000
DTEND;TZID=Australia/Brisbane:20260601T150000
DTSTAMP:20260424T034339
CREATED:20251205T100427Z
LAST-MODIFIED:20260326T072439Z
UID:21241-1780304400-1780326000@creativeglassguild.com.au
SUMMARY:Members' Project Time - Monday Daytime
DESCRIPTION:Creative Glass Guild members are able to use Guild workshop facilities during members’ project open times. You may hire use of kilns\, sandblaster\, bead making studio and use tools to work on your own projects without having to enrol in a course where tutors are available. Note though that the Guild may close at times for courses\, workshops\, maintenance or emergent priorities. Members will be notified by email of any changes. \nGuild facilities during Members’ Project Times are for the use of all members and certain obligations are expected. \nThe Guild’s Administrative Policy further details expectations of members and students\, so that all can operate in a safe\, effective and inclusive environment. Please take the time to read this important information.
URL:https://creativeglassguild.com.au/event/members-project-time-monday-daytime-2/2026-06-01/
LOCATION:Creative Glass Guild of Queensland\, Downstairs\, 64 Fulcher Road\, Red Hill\, Queensland\, 4059\, Australia
CATEGORIES:Members Day
END:VEVENT
BEGIN:VEVENT
DTSTART;TZID=Australia/Brisbane:20260608T090000
DTEND;TZID=Australia/Brisbane:20260608T150000
DTSTAMP:20260424T034339
CREATED:20251205T100427Z
LAST-MODIFIED:20260326T072439Z
UID:21242-1780909200-1780930800@creativeglassguild.com.au
SUMMARY:Members' Project Time - Monday Daytime
DESCRIPTION:Creative Glass Guild members are able to use Guild workshop facilities during members’ project open times. You may hire use of kilns\, sandblaster\, bead making studio and use tools to work on your own projects without having to enrol in a course where tutors are available. Note though that the Guild may close at times for courses\, workshops\, maintenance or emergent priorities. Members will be notified by email of any changes. \nGuild facilities during Members’ Project Times are for the use of all members and certain obligations are expected. \nThe Guild’s Administrative Policy further details expectations of members and students\, so that all can operate in a safe\, effective and inclusive environment. Please take the time to read this important information.
URL:https://creativeglassguild.com.au/event/members-project-time-monday-daytime-2/2026-06-08/
LOCATION:Creative Glass Guild of Queensland\, Downstairs\, 64 Fulcher Road\, Red Hill\, Queensland\, 4059\, Australia
CATEGORIES:Members Day
END:VEVENT
BEGIN:VEVENT
DTSTART;TZID=Australia/Brisbane:20260615T090000
DTEND;TZID=Australia/Brisbane:20260615T150000
DTSTAMP:20260424T034339
CREATED:20251205T100427Z
LAST-MODIFIED:20260326T072440Z
UID:21243-1781514000-1781535600@creativeglassguild.com.au
SUMMARY:Members' Project Time - Monday Daytime
DESCRIPTION:Creative Glass Guild members are able to use Guild workshop facilities during members’ project open times. You may hire use of kilns\, sandblaster\, bead making studio and use tools to work on your own projects without having to enrol in a course where tutors are available. Note though that the Guild may close at times for courses\, workshops\, maintenance or emergent priorities. Members will be notified by email of any changes. \nGuild facilities during Members’ Project Times are for the use of all members and certain obligations are expected. \nThe Guild’s Administrative Policy further details expectations of members and students\, so that all can operate in a safe\, effective and inclusive environment. Please take the time to read this important information.
URL:https://creativeglassguild.com.au/event/members-project-time-monday-daytime-2/2026-06-15/
LOCATION:Creative Glass Guild of Queensland\, Downstairs\, 64 Fulcher Road\, Red Hill\, Queensland\, 4059\, Australia
CATEGORIES:Members Day
END:VEVENT
BEGIN:VEVENT
DTSTART;TZID=Australia/Brisbane:20260622T090000
DTEND;TZID=Australia/Brisbane:20260622T150000
DTSTAMP:20260424T034339
CREATED:20251205T100427Z
LAST-MODIFIED:20260326T072440Z
UID:21244-1782118800-1782140400@creativeglassguild.com.au
SUMMARY:Members' Project Time - Monday Daytime
DESCRIPTION:Creative Glass Guild members are able to use Guild workshop facilities during members’ project open times. You may hire use of kilns\, sandblaster\, bead making studio and use tools to work on your own projects without having to enrol in a course where tutors are available. Note though that the Guild may close at times for courses\, workshops\, maintenance or emergent priorities. Members will be notified by email of any changes. \nGuild facilities during Members’ Project Times are for the use of all members and certain obligations are expected. \nThe Guild’s Administrative Policy further details expectations of members and students\, so that all can operate in a safe\, effective and inclusive environment. Please take the time to read this important information.
URL:https://creativeglassguild.com.au/event/members-project-time-monday-daytime-2/2026-06-22/
LOCATION:Creative Glass Guild of Queensland\, Downstairs\, 64 Fulcher Road\, Red Hill\, Queensland\, 4059\, Australia
CATEGORIES:Members Day
END:VEVENT
BEGIN:VEVENT
DTSTART;TZID=Australia/Brisbane:20260629T090000
DTEND;TZID=Australia/Brisbane:20260629T150000
DTSTAMP:20260424T034339
CREATED:20251205T100427Z
LAST-MODIFIED:20260326T072443Z
UID:21245-1782723600-1782745200@creativeglassguild.com.au
SUMMARY:Members' Project Time - Monday Daytime
DESCRIPTION:Creative Glass Guild members are able to use Guild workshop facilities during members’ project open times. You may hire use of kilns\, sandblaster\, bead making studio and use tools to work on your own projects without having to enrol in a course where tutors are available. Note though that the Guild may close at times for courses\, workshops\, maintenance or emergent priorities. Members will be notified by email of any changes. \nGuild facilities during Members’ Project Times are for the use of all members and certain obligations are expected. \nThe Guild’s Administrative Policy further details expectations of members and students\, so that all can operate in a safe\, effective and inclusive environment. Please take the time to read this important information.
URL:https://creativeglassguild.com.au/event/members-project-time-monday-daytime-2/2026-06-29/
LOCATION:Creative Glass Guild of Queensland\, Downstairs\, 64 Fulcher Road\, Red Hill\, Queensland\, 4059\, Australia
CATEGORIES:Members Day
END:VEVENT
BEGIN:VEVENT
DTSTART;TZID=Australia/Brisbane:20260706T090000
DTEND;TZID=Australia/Brisbane:20260706T150000
DTSTAMP:20260424T034339
CREATED:20251205T100427Z
LAST-MODIFIED:20251205T100427Z
UID:21720-1783328400-1783350000@creativeglassguild.com.au
SUMMARY:Members' Project Time - Monday Daytime
DESCRIPTION:Creative Glass Guild members are able to use Guild workshop facilities during members’ project open times. You may hire use of kilns\, sandblaster\, bead making studio and use tools to work on your own projects without having to enrol in a course where tutors are available. Note though that the Guild may close at times for courses\, workshops\, maintenance or emergent priorities. Members will be notified by email of any changes. \nGuild facilities during Members’ Project Times are for the use of all members and certain obligations are expected. \nThe Guild’s Administrative Policy further details expectations of members and students\, so that all can operate in a safe\, effective and inclusive environment. Please take the time to read this important information.
URL:https://creativeglassguild.com.au/event/members-project-time-monday-daytime-2/2026-07-06/
LOCATION:Creative Glass Guild of Queensland\, Downstairs\, 64 Fulcher Road\, Red Hill\, Queensland\, 4059\, Australia
CATEGORIES:Members Day
END:VEVENT
BEGIN:VEVENT
DTSTART;TZID=Australia/Brisbane:20260713T090000
DTEND;TZID=Australia/Brisbane:20260713T150000
DTSTAMP:20260424T034339
CREATED:20251205T100427Z
LAST-MODIFIED:20251205T100427Z
UID:21721-1783933200-1783954800@creativeglassguild.com.au
SUMMARY:Members' Project Time - Monday Daytime
DESCRIPTION:Creative Glass Guild members are able to use Guild workshop facilities during members’ project open times. You may hire use of kilns\, sandblaster\, bead making studio and use tools to work on your own projects without having to enrol in a course where tutors are available. Note though that the Guild may close at times for courses\, workshops\, maintenance or emergent priorities. Members will be notified by email of any changes. \nGuild facilities during Members’ Project Times are for the use of all members and certain obligations are expected. \nThe Guild’s Administrative Policy further details expectations of members and students\, so that all can operate in a safe\, effective and inclusive environment. Please take the time to read this important information.
URL:https://creativeglassguild.com.au/event/members-project-time-monday-daytime-2/2026-07-13/
LOCATION:Creative Glass Guild of Queensland\, Downstairs\, 64 Fulcher Road\, Red Hill\, Queensland\, 4059\, Australia
CATEGORIES:Members Day
END:VEVENT
BEGIN:VEVENT
DTSTART;TZID=Australia/Brisbane:20260720T090000
DTEND;TZID=Australia/Brisbane:20260720T150000
DTSTAMP:20260424T034339
CREATED:20251205T100427Z
LAST-MODIFIED:20251205T100427Z
UID:21722-1784538000-1784559600@creativeglassguild.com.au
SUMMARY:Members' Project Time - Monday Daytime
DESCRIPTION:Creative Glass Guild members are able to use Guild workshop facilities during members’ project open times. You may hire use of kilns\, sandblaster\, bead making studio and use tools to work on your own projects without having to enrol in a course where tutors are available. Note though that the Guild may close at times for courses\, workshops\, maintenance or emergent priorities. Members will be notified by email of any changes. \nGuild facilities during Members’ Project Times are for the use of all members and certain obligations are expected. \nThe Guild’s Administrative Policy further details expectations of members and students\, so that all can operate in a safe\, effective and inclusive environment. Please take the time to read this important information.
URL:https://creativeglassguild.com.au/event/members-project-time-monday-daytime-2/2026-07-20/
LOCATION:Creative Glass Guild of Queensland\, Downstairs\, 64 Fulcher Road\, Red Hill\, Queensland\, 4059\, Australia
CATEGORIES:Members Day
END:VEVENT
BEGIN:VEVENT
DTSTART;TZID=Australia/Brisbane:20260727T090000
DTEND;TZID=Australia/Brisbane:20260727T150000
DTSTAMP:20260424T034339
CREATED:20251205T100427Z
LAST-MODIFIED:20251205T100427Z
UID:21723-1785142800-1785164400@creativeglassguild.com.au
SUMMARY:Members' Project Time - Monday Daytime
DESCRIPTION:Creative Glass Guild members are able to use Guild workshop facilities during members’ project open times. You may hire use of kilns\, sandblaster\, bead making studio and use tools to work on your own projects without having to enrol in a course where tutors are available. Note though that the Guild may close at times for courses\, workshops\, maintenance or emergent priorities. Members will be notified by email of any changes. \nGuild facilities during Members’ Project Times are for the use of all members and certain obligations are expected. \nThe Guild’s Administrative Policy further details expectations of members and students\, so that all can operate in a safe\, effective and inclusive environment. Please take the time to read this important information.
URL:https://creativeglassguild.com.au/event/members-project-time-monday-daytime-2/2026-07-27/
LOCATION:Creative Glass Guild of Queensland\, Downstairs\, 64 Fulcher Road\, Red Hill\, Queensland\, 4059\, Australia
CATEGORIES:Members Day
END:VEVENT
END:VCALENDAR