BEGIN:VCALENDAR
VERSION:2.0
PRODID:-//Creative Glass Guild of Queensland - ECPv6.15.20//NONSGML v1.0//EN
CALSCALE:GREGORIAN
METHOD:PUBLISH
X-ORIGINAL-URL:https://creativeglassguild.com.au
X-WR-CALDESC:Events for Creative Glass Guild of Queensland
REFRESH-INTERVAL;VALUE=DURATION:PT1H
X-Robots-Tag:noindex
X-PUBLISHED-TTL:PT1H
BEGIN:VTIMEZONE
TZID:Australia/Brisbane
BEGIN:STANDARD
TZOFFSETFROM:+1000
TZOFFSETTO:+1000
TZNAME:AEST
DTSTART:20250101T000000
END:STANDARD
END:VTIMEZONE
BEGIN:VEVENT
DTSTART;TZID=Australia/Brisbane:20260819T180000
DTEND;TZID=Australia/Brisbane:20260819T210000
DTSTAMP:20260424T022812
CREATED:20260414T032633Z
LAST-MODIFIED:20260414T034312Z
UID:21892-1787162400-1787173200@creativeglassguild.com.au
SUMMARY:BM4: Beginner Mosaics (August 19 to September 23)
DESCRIPTION:Mosaics – BEGINNERS\nTutors: April Araullo and Marianne Bland \n \nIn this 18-hour course held over 6 consecutive Wednesday evenings\, you will learn skills and techniques necessary to create a beautiful glass mosaic suitable for displaying inside your home or outside in your garden. You choose!   \nLearn how to score and cut glass; safety practices when working with glass; and use of various hand tools for cutting glass to a pattern. You will also learn how to use a grinder to refine the shape of your tesserae\, and finally\, to glue and grout your mosaic for the finished picture.  Tutors will provide a selection of designs suitable to create a 30 x 30 cm hanging mosaic.  Upon completion of the course\, you will have not only a beautiful mosaic to take home\, but also the knowledge to create your own glass mosaic projects. \nWhen: Wednesdays\, 6:00 to 9:00pm (18 hours) \nNumbers: Minimum 5\, Maximum 6 \nPrerequisite: No prior experience required.  \nCost: Includes all materials – glass\, substrate\, adhesives and grout\, hanging hardware – as well as course notes. Guild beginner courses have no hidden costs!
URL:https://creativeglassguild.com.au/event/bm4-beginner-mosaics/2026-08-19/
LOCATION:Creative Glass Guild of Queensland\, Downstairs\, 64 Fulcher Road\, Red Hill\, Queensland\, 4059\, Australia
CATEGORIES:Mosaics – Beginners
ATTACH;FMTTYPE=image/jpeg:https://creativeglassguild.com.au/wp-content/uploads/2025/02/Beginner-mosaics-3.jpg
END:VEVENT
BEGIN:VEVENT
DTSTART;TZID=Australia/Brisbane:20260826T180000
DTEND;TZID=Australia/Brisbane:20260826T210000
DTSTAMP:20260424T022812
CREATED:20260414T032633Z
LAST-MODIFIED:20260414T034313Z
UID:21896-1787767200-1787778000@creativeglassguild.com.au
SUMMARY:BM4: Beginner Mosaics (August 19 to September 23)
DESCRIPTION:Mosaics – BEGINNERS\nTutors: April Araullo and Marianne Bland \n \nIn this 18-hour course held over 6 consecutive Wednesday evenings\, you will learn skills and techniques necessary to create a beautiful glass mosaic suitable for displaying inside your home or outside in your garden. You choose!   \nLearn how to score and cut glass; safety practices when working with glass; and use of various hand tools for cutting glass to a pattern. You will also learn how to use a grinder to refine the shape of your tesserae\, and finally\, to glue and grout your mosaic for the finished picture.  Tutors will provide a selection of designs suitable to create a 30 x 30 cm hanging mosaic.  Upon completion of the course\, you will have not only a beautiful mosaic to take home\, but also the knowledge to create your own glass mosaic projects. \nWhen: Wednesdays\, 6:00 to 9:00pm (18 hours) \nNumbers: Minimum 5\, Maximum 6 \nPrerequisite: No prior experience required.  \nCost: Includes all materials – glass\, substrate\, adhesives and grout\, hanging hardware – as well as course notes. Guild beginner courses have no hidden costs!
URL:https://creativeglassguild.com.au/event/bm4-beginner-mosaics/2026-08-26/
LOCATION:Creative Glass Guild of Queensland\, Downstairs\, 64 Fulcher Road\, Red Hill\, Queensland\, 4059\, Australia
CATEGORIES:Mosaics – Beginners
ATTACH;FMTTYPE=image/jpeg:https://creativeglassguild.com.au/wp-content/uploads/2025/02/Beginner-mosaics-3.jpg
END:VEVENT
BEGIN:VEVENT
DTSTART;TZID=Australia/Brisbane:20260902T180000
DTEND;TZID=Australia/Brisbane:20260902T210000
DTSTAMP:20260424T022812
CREATED:20260414T032633Z
LAST-MODIFIED:20260414T034313Z
UID:21897-1788372000-1788382800@creativeglassguild.com.au
SUMMARY:BM4: Beginner Mosaics (August 19 to September 23)
DESCRIPTION:Mosaics – BEGINNERS\nTutors: April Araullo and Marianne Bland \n \nIn this 18-hour course held over 6 consecutive Wednesday evenings\, you will learn skills and techniques necessary to create a beautiful glass mosaic suitable for displaying inside your home or outside in your garden. You choose!   \nLearn how to score and cut glass; safety practices when working with glass; and use of various hand tools for cutting glass to a pattern. You will also learn how to use a grinder to refine the shape of your tesserae\, and finally\, to glue and grout your mosaic for the finished picture.  Tutors will provide a selection of designs suitable to create a 30 x 30 cm hanging mosaic.  Upon completion of the course\, you will have not only a beautiful mosaic to take home\, but also the knowledge to create your own glass mosaic projects. \nWhen: Wednesdays\, 6:00 to 9:00pm (18 hours) \nNumbers: Minimum 5\, Maximum 6 \nPrerequisite: No prior experience required.  \nCost: Includes all materials – glass\, substrate\, adhesives and grout\, hanging hardware – as well as course notes. Guild beginner courses have no hidden costs!
URL:https://creativeglassguild.com.au/event/bm4-beginner-mosaics/2026-09-02/
LOCATION:Creative Glass Guild of Queensland\, Downstairs\, 64 Fulcher Road\, Red Hill\, Queensland\, 4059\, Australia
CATEGORIES:Mosaics – Beginners
ATTACH;FMTTYPE=image/jpeg:https://creativeglassguild.com.au/wp-content/uploads/2025/02/Beginner-mosaics-3.jpg
END:VEVENT
BEGIN:VEVENT
DTSTART;TZID=Australia/Brisbane:20260909T180000
DTEND;TZID=Australia/Brisbane:20260909T210000
DTSTAMP:20260424T022812
CREATED:20260414T032633Z
LAST-MODIFIED:20260414T034313Z
UID:21898-1788976800-1788987600@creativeglassguild.com.au
SUMMARY:BM4: Beginner Mosaics (August 19 to September 23)
DESCRIPTION:Mosaics – BEGINNERS\nTutors: April Araullo and Marianne Bland \n \nIn this 18-hour course held over 6 consecutive Wednesday evenings\, you will learn skills and techniques necessary to create a beautiful glass mosaic suitable for displaying inside your home or outside in your garden. You choose!   \nLearn how to score and cut glass; safety practices when working with glass; and use of various hand tools for cutting glass to a pattern. You will also learn how to use a grinder to refine the shape of your tesserae\, and finally\, to glue and grout your mosaic for the finished picture.  Tutors will provide a selection of designs suitable to create a 30 x 30 cm hanging mosaic.  Upon completion of the course\, you will have not only a beautiful mosaic to take home\, but also the knowledge to create your own glass mosaic projects. \nWhen: Wednesdays\, 6:00 to 9:00pm (18 hours) \nNumbers: Minimum 5\, Maximum 6 \nPrerequisite: No prior experience required.  \nCost: Includes all materials – glass\, substrate\, adhesives and grout\, hanging hardware – as well as course notes. Guild beginner courses have no hidden costs!
URL:https://creativeglassguild.com.au/event/bm4-beginner-mosaics/2026-09-09/
LOCATION:Creative Glass Guild of Queensland\, Downstairs\, 64 Fulcher Road\, Red Hill\, Queensland\, 4059\, Australia
CATEGORIES:Mosaics – Beginners
ATTACH;FMTTYPE=image/jpeg:https://creativeglassguild.com.au/wp-content/uploads/2025/02/Beginner-mosaics-3.jpg
END:VEVENT
BEGIN:VEVENT
DTSTART;TZID=Australia/Brisbane:20260916T180000
DTEND;TZID=Australia/Brisbane:20260916T210000
DTSTAMP:20260424T022812
CREATED:20260414T032633Z
LAST-MODIFIED:20260414T034314Z
UID:21899-1789581600-1789592400@creativeglassguild.com.au
SUMMARY:BM4: Beginner Mosaics (August 19 to September 23)
DESCRIPTION:Mosaics – BEGINNERS\nTutors: April Araullo and Marianne Bland \n \nIn this 18-hour course held over 6 consecutive Wednesday evenings\, you will learn skills and techniques necessary to create a beautiful glass mosaic suitable for displaying inside your home or outside in your garden. You choose!   \nLearn how to score and cut glass; safety practices when working with glass; and use of various hand tools for cutting glass to a pattern. You will also learn how to use a grinder to refine the shape of your tesserae\, and finally\, to glue and grout your mosaic for the finished picture.  Tutors will provide a selection of designs suitable to create a 30 x 30 cm hanging mosaic.  Upon completion of the course\, you will have not only a beautiful mosaic to take home\, but also the knowledge to create your own glass mosaic projects. \nWhen: Wednesdays\, 6:00 to 9:00pm (18 hours) \nNumbers: Minimum 5\, Maximum 6 \nPrerequisite: No prior experience required.  \nCost: Includes all materials – glass\, substrate\, adhesives and grout\, hanging hardware – as well as course notes. Guild beginner courses have no hidden costs!
URL:https://creativeglassguild.com.au/event/bm4-beginner-mosaics/2026-09-16/
LOCATION:Creative Glass Guild of Queensland\, Downstairs\, 64 Fulcher Road\, Red Hill\, Queensland\, 4059\, Australia
CATEGORIES:Mosaics – Beginners
ATTACH;FMTTYPE=image/jpeg:https://creativeglassguild.com.au/wp-content/uploads/2025/02/Beginner-mosaics-3.jpg
END:VEVENT
BEGIN:VEVENT
DTSTART;TZID=Australia/Brisbane:20260923T180000
DTEND;TZID=Australia/Brisbane:20260923T210000
DTSTAMP:20260424T022812
CREATED:20260414T032633Z
LAST-MODIFIED:20260414T034314Z
UID:21900-1790186400-1790197200@creativeglassguild.com.au
SUMMARY:BM4: Beginner Mosaics (August 19 to September 23)
DESCRIPTION:Mosaics – BEGINNERS\nTutors: April Araullo and Marianne Bland \n \nIn this 18-hour course held over 6 consecutive Wednesday evenings\, you will learn skills and techniques necessary to create a beautiful glass mosaic suitable for displaying inside your home or outside in your garden. You choose!   \nLearn how to score and cut glass; safety practices when working with glass; and use of various hand tools for cutting glass to a pattern. You will also learn how to use a grinder to refine the shape of your tesserae\, and finally\, to glue and grout your mosaic for the finished picture.  Tutors will provide a selection of designs suitable to create a 30 x 30 cm hanging mosaic.  Upon completion of the course\, you will have not only a beautiful mosaic to take home\, but also the knowledge to create your own glass mosaic projects. \nWhen: Wednesdays\, 6:00 to 9:00pm (18 hours) \nNumbers: Minimum 5\, Maximum 6 \nPrerequisite: No prior experience required.  \nCost: Includes all materials – glass\, substrate\, adhesives and grout\, hanging hardware – as well as course notes. Guild beginner courses have no hidden costs!
URL:https://creativeglassguild.com.au/event/bm4-beginner-mosaics/2026-09-23/
LOCATION:Creative Glass Guild of Queensland\, Downstairs\, 64 Fulcher Road\, Red Hill\, Queensland\, 4059\, Australia
CATEGORIES:Mosaics – Beginners
ATTACH;FMTTYPE=image/jpeg:https://creativeglassguild.com.au/wp-content/uploads/2025/02/Beginner-mosaics-3.jpg
END:VEVENT
END:VCALENDAR